BEGIN:VCALENDAR
VERSION:2.0
PRODID:-//https://faithvictoria.org.au///NONSGML kigkonsult.se iCalcreator 2.10.15//
METHOD:PUBLISH
BEGIN:VEVENT
UID:20260420T015642UTC-9891BTM8gj@https://faithvictoria.org.au/
DTSTAMP:20260420T015642Z
DESCRIPTION:The Council of Christians and Jews Victoria invites you to:\nRa
 bbi Micky Boyden\, an Israeli progressive rabbi and sought after speaker\,
  presents:\n“Israel\, Iran&nbsp\; and where we go from here!”\nand&nbsp\;“
 And a dip into how Jews read the holy scriptures”\nDate: Sunday 13 October
  2024&nbsp\; &nbsp\; &nbsp\;Time:&nbsp\;3pm to 5pmLocation:&nbsp\;St John'
 s East Malvern\, 5 Finch St\, Malvern East VIC 3145\nAbout the speaker: Ra
 bbi Michael (Micky) Boyden was born in London and is a graduate of London 
 University and the Leo Baeck College. He served a reform congregation near
  Manchester and was Vice President of the Assembly of Rabbis of the Reform
  Synagogues of Great Britain\, before moving to Israel in 1985. He has sin
 ce founded Rabbis for ISrael and was directly involved in the establishmen
 t of advocacy group called 'We are for Israel'\, which was supported by hu
 ndreds of rabbis and Jewish leaders worldwide. He is also a past President
  of the Israel Council of Progressive Rabbis and served as director of its
  national Rabbinic Court for Conversion. In Israel he pioneered the establ
 ishment of the two Reform congregations and is now the spiritual leader of
  'Kehilat Yonatan'. He is a frequent international speaker\, particularly 
 on the topics he will cover in this presentation\, and writes regularly fo
 r the&nbsp\;Ha'aretz&nbsp\;and&nbsp\;The Times of Israel newspapers. Rabbi
  Boyden is visiting Australia as guest rabbi of Kedem Progressive Congrega
 tion\, Armadale.&nbsp\;\nCost: $10&nbsp\;| Click here to register https://
 faithvictoria.org.au/upcoming-events/event/2280-rabbi-boyden-presents-coun
 cil-of-christians-and-jews-victoria
DTSTART:20241013T150000Z
DTEND:20241013T170000Z
LOCATION:St John's East Malvern\, 5 Finch St\, Malvern East VIC 3145 (5 Fin
 ch St\, Malvern East VIC 3145\, Australia)
SUMMARY:Rabbi Boyden presents: Council of Christians and Jews Victoria
URL:https://faithvictoria.org.au/upcoming-events/event/2280-rabbi-boyden-pr
 esents-council-of-christians-and-jews-victoria
END:VEVENT
BEGIN:VEVENT
UID:20260420T015642UTC-9902vlgVPG@https://faithvictoria.org.au/
DTSTAMP:20260420T015642Z
DESCRIPTION:You are cordially invited to:\nWeek of Prayer for World Peace |
  50th Anniversary Gathering&nbsp\;\nDate:&nbsp\;Sunday 13 October 2024&nbs
 p\; &nbsp\; &nbsp\;Time: 6pm Location: Online (via Zoom)\nThis will be the
  first interfaith online ‘Gathering’ for this region.&nbsp\;\nJoin Zoom Me
 eting\nhttps://us06web.zoom.us/j/85831495272?pwd=NEXEyNi0VyX1QJefwGssMc2qi
 r2JyN.1\nMeeting ID: 858 3149 5272 |&nbsp\;Passcode: 978683\nPlease join i
 n and together let’s send out prayers\, meditations and heartfelt wishes f
 or peace.\nFor more information about the event\, please click here.&nbsp\
 ; https://faithvictoria.org.au/upcoming-events/event/2285-week-of-prayer-f
 or-world-peace
DTSTART:20241013T180000Z
DTEND:20241013T190000Z
LOCATION:Melbourne VIC 3000 (Melbourne VIC\, Australia)
SUMMARY:Week of Prayer for World Peace
URL:https://faithvictoria.org.au/upcoming-events/event/2285-week-of-prayer-
 for-world-peace
END:VEVENT
END:VCALENDAR
