BEGIN:VCALENDAR
VERSION:2.0
PRODID:-//https://faithvictoria.org.au///NONSGML kigkonsult.se iCalcreator 2.10.15//
METHOD:PUBLISH
BEGIN:VEVENT
UID:20260421T191353UTC-459598MrkX@https://faithvictoria.org.au/
DTSTAMP:20260421T191353Z
DESCRIPTION:The Bendigo Interfaith Council invites you to:\nTranquility Zon
 e\nDate: Saturday 13 October 2018&nbsp\; &nbsp\; &nbsp\; &nbsp\; &nbsp\;Ti
 me: 3:15pm for a 3:30pm start to 4:30pm Location: Bendigo Godlfields Libra
 ry\, 251-259 Hargreaves Street\, Bendigo\, Victoria 3550\nTake time to qui
 et your mind and reconnect with your spirit and tranquil environment. Let&
 rsquo\;s listen to words of wisdom from the world&rsquo\;s spiritual tradi
 tions and get inspired to transform our lives and our communities\, with a
 ctions that promote the unity and betterment of society. The program will 
 consist of readings followed by discussion and light refreshments.\nAll ar
 e welcome | Free event\nMore information: (03) 5400 2922 | tranquilityzone
 bendigo@gmail.com https://faithvictoria.org.au/upcoming-events/event/1487-
 tranquility-zone-bendigo-interfaith-council
DTSTART:20181013T153000Z
DTEND:20181013T163000Z
LOCATION:Bendigo Library\, 251-259 Hargreaves Street\, Bendigo\, Victoria 3
 550 (251-259 Hargreaves St\, Bendigo VIC 3550\, Australia)
SUMMARY:Tranquility Zone: Bendigo Interfaith Council
URL:https://faithvictoria.org.au/upcoming-events/event/1487-tranquility-zon
 e-bendigo-interfaith-council
END:VEVENT
END:VCALENDAR
