BEGIN:VCALENDAR
VERSION:2.0
PRODID:-//https://faithvictoria.org.au///NONSGML kigkonsult.se iCalcreator 2.10.15//
METHOD:PUBLISH
BEGIN:VEVENT
UID:20260419T234933UTC-9034VVkjbz@https://faithvictoria.org.au/
DTSTAMP:20260419T234933Z
DESCRIPTION:\nHoly Day: Dussehra Date: Saturday 12 October&nbsp\;2024Faith:
  Hinduism\nDesciption: Dussehra (Vijaya Dashami\, Dasara) is a Hindu festi
 val that celebrates the victory of good over evil. People celebrate Dusseh
 ra through special prayer meetings and food offerings to the gods at home 
 or in temples. https://faithvictoria.org.au/upcoming-events/event/2066-dus
 sehra-hinduism
DTSTART;VALUE=DATE:20241012
LOCATION:RSEvents!Pro Location (Colorado\, USA)
SUMMARY:Dussehra	| Hinduism 
URL:https://faithvictoria.org.au/upcoming-events/event/2066-dussehra-hindui
 sm
END:VEVENT
BEGIN:VEVENT
UID:20260419T234933UTC-9041B2r2C0@https://faithvictoria.org.au/
DTSTAMP:20260419T234933Z
DESCRIPTION:\nHoly Day: Navaratri Begins on Thursday 3 October 2024Ends on 
 Saturday 12 October 2024Faith: Hinduism\nDescription: Navaratri\, which li
 terally means ‘nine nights’\, is a festival honouring the Goddess/Divine M
 other and her energy/power (Shakti). This nine day festival includes worsh
 ipping and dancing as people celebrate various aspects of the feminine. ht
 tps://faithvictoria.org.au/upcoming-events/event/2067-navaratri-hinduism
DTSTART:20241003T000000Z
DTEND:20241012T223636Z
LOCATION:RSEvents!Pro Location (Colorado\, USA)
SUMMARY:Navaratri | Hinduism 
URL:https://faithvictoria.org.au/upcoming-events/event/2067-navaratri-hindu
 ism
END:VEVENT
BEGIN:VEVENT
UID:20260419T234933UTC-9045NrdVFS@https://faithvictoria.org.au/
DTSTAMP:20260419T234933Z
DESCRIPTION:\nHoly Day: Yom Kippur Date: Saturday 12 October 2024*Faith: Ju
 daism\nDescription: Yom Kippur\, also known as Day of Atonement\, is the h
 oliest day of the year for the Jewish people\, characterized by repentance
  and forgiveness. Jewish people traditionally observe this holy day with f
 asting and intensive prayer\, often spending most of the day in synagogue 
 services.\n* Begins at sundown on the previous day listed https://faithvic
 toria.org.au/upcoming-events/event/2094-yom-kippur-judaism
DTSTART;VALUE=DATE:20241012
LOCATION:RSEvents!Pro Location (Colorado\, USA)
SUMMARY:Yom Kippur | Judaism 	
URL:https://faithvictoria.org.au/upcoming-events/event/2094-yom-kippur-juda
 ism
END:VEVENT
END:VCALENDAR
