BEGIN:VCALENDAR
VERSION:2.0
PRODID:-//https://faithvictoria.org.au///NONSGML kigkonsult.se iCalcreator 2.10.15//
METHOD:PUBLISH
BEGIN:VEVENT
UID:20260419T223211UTC-6232B6N9j6@https://faithvictoria.org.au/
DTSTAMP:20260419T223211Z
DESCRIPTION:The Cardinia Interfaith Network invites you to:\nThe Power of C
 ommunity | Interfaith Fair\nDate: Saturday 12 October 2019&nbsp\; &nbsp\; 
 &nbsp\; Time: 1pm to 4:30pmLocation:&nbsp\;Pakenham Secondary College Seni
 or School Lecture Theatre\, 1020 Princes Hwy\, Pakenham VIC 3810\nAn after
 noon showcasing the communty activities of the faith groups in our local a
 rea.&nbsp\;\nActivities include:\n\nInterfaith presentations\nWorkshops\nI
 nformation stalls\nFood\n\nMore information or RSVP: Mzaman53@gmail.com&nb
 sp\;| www.csifn.org&nbsp\;For flyer\, click here.&nbsp\;\nThis event is sp
 onsored by the Cardinia Shire Council\, Victorian Multicultural Commission
  and the State Government of Victoria https://faithvictoria.org.au/upcomin
 g-events/event/1614-the-power-of-community-cardinia-interfaith-network
DTSTART:20191012T130000Z
DTEND:20191012T163000Z
LOCATION:Pakenham Secondary College Senior School Lecture Theatre\, 1020 Pr
 inces Hwy\, Pakenham VIC 3810 (Pakenham Secondary College\, 1020 Princes H
 wy\, Pakenham VIC 3810\, Australia)
SUMMARY:The Power of Community: Cardinia Interfaith Network
URL:https://faithvictoria.org.au/upcoming-events/event/1614-the-power-of-co
 mmunity-cardinia-interfaith-network
END:VEVENT
BEGIN:VEVENT
UID:20260419T223211UTC-6247JkN9vS@https://faithvictoria.org.au/
DTSTAMP:20260419T223211Z
DESCRIPTION:Wyndham Interfaith Network and Wyndham City invite you to:\nCom
 munity Film and Discussion | You Can't Ask That\nDate: Saturday 12 October
  2019&nbsp\; &nbsp\; &nbsp\;Time: 2pm to 4pmLocation:&nbsp\;Encore Events 
 Centre\, 80 Derrimut Road\, Hoppers Crossing VIC 3029\nDuring Gambling Har
 m Awareness Week\, Wyndham City and the Wyndham Interfaith Network present
  You Can't Ask That\, a free community film and discussion on gambling har
 m in local communities. Come along to experience this powerful film\, foll
 owed by a panel discussion including special guest The Reverend Tim Costel
 lo AO.\nAfternoon tea will be served. For online bookings\, click here.&nb
 sp\;\n&nbsp\;\n&nbsp\; https://faithvictoria.org.au/upcoming-events/event/
 1633-community-film-and-discussion-wyndham-interfaith-network
DTSTART:20191012T140000Z
DTEND:20191012T160000Z
LOCATION:Encore Events Centre\, 80 Derrimut Road\, Hoppers Crossing VIC 302
 9 (80 Derrimut Rd\, Hoppers Crossing VIC 3029\, Australia)
SUMMARY:Community Film and Discussion: Wyndham Interfaith Network
URL:https://faithvictoria.org.au/upcoming-events/event/1633-community-film-
 and-discussion-wyndham-interfaith-network
END:VEVENT
END:VCALENDAR
