BEGIN:VCALENDAR
VERSION:2.0
PRODID:-//https://faithvictoria.org.au///NONSGML kigkonsult.se iCalcreator 2.10.15//
METHOD:PUBLISH
BEGIN:VEVENT
UID:20260421T141511UTC-3919IVolmM@https://faithvictoria.org.au/
DTSTAMP:20260421T141511Z
DESCRIPTION: https://faithvictoria.org.au/upcoming-events/event/1350-tour-t
 o-places-of-worship-2018-greater-dandenong-interfaith-network
DTSTART:20181010T083000Z
DTEND:20181010T151500Z
LOCATION:Interfaith Network Office\, 39 Clow Street\, Dandenong (39 Clow St
 \, Dandenong VIC 3175\, Australia)
SUMMARY:Tour to Places of Worship 2018: Greater Dandenong Interfaith Networ
 k
URL:https://faithvictoria.org.au/upcoming-events/event/1350-tour-to-places-
 of-worship-2018-greater-dandenong-interfaith-network
END:VEVENT
BEGIN:VEVENT
UID:20260421T141511UTC-3923Vvvozh@https://faithvictoria.org.au/
DTSTAMP:20260421T141511Z
DESCRIPTION:The&nbsp\;Monash Interfaith Gathering invites you to:\nTogether
  We Can | 2018 Symposium\nDate: Wednesday 10 October 2018&nbsp\; &nbsp\; &
 nbsp\;&nbsp\;Time: 6:30pm to 8:30pm (registration at 6pm)Location: Mulgrav
 e Community Centre\, 355 Wellington Road\, Mulgrave(Free car parking onsit
 e)\nAn invitation to an interfaith gathering to explore how to complement 
 each other's strengths in promoting understanding and respect among differ
 ent faiths and beliefs including non&shy\; belief. Questions and suggestio
 ns from the public are welcome.\nLight refreshments provided.Free event | 
 Limited seating\nBookings essential:&nbsp\;www.eventbrite.com.au/o/monash-
 interfaith-gathering-17835927608&nbsp\;\nThis event is organised with Maro
 ondah Interfaith Network\, Kingston Interfaith Network\, Manningham Interf
 aith Network\, Knox Interfaith Network and Whitehorse Interfaith Network. 
 Proudly supported by Monash City Council. https://faithvictoria.org.au/upc
 oming-events/event/1481-together-we-can-monash-interfaith-gathering
DTSTART:20181010T180000Z
DTEND:20181010T203000Z
LOCATION:Mulgrave Community Centre\, 355 Wellington Road\, Mulgrave 3170 (3
 55 Wellington Rd\, Mulgrave VIC 3170\, Australia)
SUMMARY:Together We Can: Monash Interfaith Gathering
URL:https://faithvictoria.org.au/upcoming-events/event/1481-together-we-can
 -monash-interfaith-gathering
END:VEVENT
END:VCALENDAR
