BEGIN:VCALENDAR
VERSION:2.0
PRODID:-//https://faithvictoria.org.au///NONSGML kigkonsult.se iCalcreator 2.10.15//
METHOD:PUBLISH
BEGIN:VEVENT
UID:20260420T040925UTC-1409lPTTid@https://faithvictoria.org.au/
DTSTAMP:20260420T040925Z
DESCRIPTION:The City of Greater Dandenong Interfaith Network invites you to
 :\nA Tour to Places of Worship 2019\nDate:&nbsp\;Wednesday&nbsp\;9 October
  2019&nbsp\; &nbsp\; &nbsp\; &nbsp\;Time:&nbsp\;9am to 3:30pm&nbsp\;Tour d
 eparts from:&nbsp\;Interfaith Network Office\, 39 Clow Street\, Dandenong 
 (Free parking available off Stuart Street\, behind IFN Office)\nTour Guide
 :&nbsp\;Mrs Agnes Kean\nTour includes:\n\nIslamic Society of Melbourne Eas
 tern Region&nbsp\;|&nbsp\;1273 Wellington Road\, Lysterfield | Host:&nbsp\
 ;Imam Fadil Fachni &amp\; Ms Shameela Essop\nMorning Tea\nMelbourne Mahapr
 abhu Mandir (Hare Krishna)&nbsp\;| 197 Danks Street\, Albert Park | Host&n
 bsp\;Bhakta Dasa\nVegetarian Lunch provided by host: Melbourne Mahaprabhu 
 Mandir (Hare Krishna Temple)\; donation towards lunch is appreciated\nChur
 ch of Our Lady's Dormition (Russian Orthodox)&nbsp\;| 1-3 Morwell Avenue\,
  Dandenong | Host: Very Rev Fr&nbsp\;Michael Protopopov OAM\nReturn to Int
 erfaith Network Office\, Dandenong\nBaha'i Faith Presentation and Refreshm
 ents | Training Room\, Level 1\, 39 Clow Street\, Dandenong | Host: Mrs Ag
 nes Kean\n\nCost:&nbsp\;$25 - covers transport and 'Many Faiths\, One Peop
 le' book\nRespectful Practices:\n\nModest clothing worn in all Places of W
 orship would be appreciated.\nAll are requested to remove their shoes befo
 re entering the Sikh Gurdwara\, Hindu and Buddhist Temples and Mosque.\nIn
  the Hindu Temple\, all head coverings should be removed except those worn
  as religious practice.\nWomen entering the Mosque are asked to cover thei
 r heads and wear clothing which covers arms to wrists and legs to ankles\,
  men are asked to cover their heads in the Jewish Synagogue and all are as
 ked to cover their heads in Gurdwara. [Head covering provided in the Synag
 ogue &amp\; Gurdwara]\nVisitors should have no tobacco on their person whe
 n entering the Gurdwara\n\nFurther Information:&nbsp\;Helen Heath: 03 8774
  7662 | 0421 829 563 |&nbsp\;interfaithofficer@interfaithnetwork.org.au ht
 tps://faithvictoria.org.au/upcoming-events/event/1567-tour-to-places-of-wo
 rship-2019-interfaith-network-of-greater-dandenong
DTSTART:20191009T090000Z
DTEND:20191009T153000Z
LOCATION:Interfaith Network Office\, 39 Clow Street\, Dandenong VIC 3175 (3
 9 Clow St\, Dandenong VIC 3175\, Australia)
SUMMARY:Tour to Places of Worship 2019: Interfaith Network of Greater Dande
 nong
URL:https://faithvictoria.org.au/upcoming-events/event/1567-tour-to-places-
 of-worship-2019-interfaith-network-of-greater-dandenong
END:VEVENT
END:VCALENDAR
