BEGIN:VCALENDAR
VERSION:2.0
PRODID:-//https://faithvictoria.org.au///NONSGML kigkonsult.se iCalcreator 2.10.15//
METHOD:PUBLISH
BEGIN:VEVENT
UID:20260421T095802UTC-6861pGsk3v@https://faithvictoria.org.au/
DTSTAMP:20260421T095802Z
DESCRIPTION:The Manningham Interfaith Network invites you to:\nFaith Bus To
 ur\nDate: Sunday 7 October 2018&nbsp\; &nbsp\; &nbsp\; &nbsp\;Time: 12:30p
 m to 4:30pmBus pick-up Location: Manningham Civic Centre\, 699 Doncaster R
 oad\, Doncaster\, 3108 (Drop off at this location by 6pm)\nCome to ask que
 stions and learn about items\, arts\, symbols and more as we enjoy this gr
 eat bus ride with the company of our diverse community.\nTour will visit:
 \n\nThe UMMA Center (Islamic)\nDonvale Egyptian Coptic complex (Christian)
 \nThe BLIAV temple and cafe (Buddhist)\n\nFor flyer\, please click here.\n
 Food\, gifts and showbags provided.\nBookings essential: Dot Haynes | 0425
  718 937 | dothaynes@gmail.com https://faithvictoria.org.au/upcoming-event
 s/event/1402-faith-bus-tour-manningham-interfaith-network
DTSTART:20181007T123000Z
DTEND:20181007T163000Z
LOCATION:Manningham Civic Centre\, 699 Doncaster Road\, Doncaster\, 3108 (6
 99 Doncaster Rd\, Doncaster VIC 3108\, Australia)
SUMMARY:Faith Bus Tour: Manningham Interfaith Network
URL:https://faithvictoria.org.au/upcoming-events/event/1402-faith-bus-tour-
 manningham-interfaith-network
END:VEVENT
END:VCALENDAR
