BEGIN:VCALENDAR
VERSION:2.0
PRODID:-//https://faithvictoria.org.au///NONSGML kigkonsult.se iCalcreator 2.10.15//
METHOD:PUBLISH
BEGIN:VEVENT
UID:20260420T093232UTC-6387UZlfOA@https://faithvictoria.org.au/
DTSTAMP:20260420T093232Z
DESCRIPTION:Manningham Interfaith Network invites you to:\nBus Tour | Relig
 ion and Spirituality\nDate: Sunday 6 October 2019&nbsp\; &nbsp\; Time: 12:
 30pm to 4:30pmBus pick-up and drop-off location: Manningham Civic Office\,
  699 Doncaster Road\, Doncaster VIC 3108\nTour will visit:\n\nBaha'i House
 \, Templestowe\nSaint Gregory the Great Church | Doncaster\nFo Guang Shan 
 Er You Temple | Box Hill\n\nJoin us as we tour three very interesting diff
 erent faith centres. Build Bridges and have your questions answered.\nFood
  gifts and showbags will be provided.\nCost: Free | Bookings essentialCont
 act: Dot Haynes | 0425 718 937 | dothaynes041@gmail.com&nbsp\;| www.mannin
 ghaminterfaithnetwork.org.au&nbsp\; https://faithvictoria.org.au/upcoming-
 events/event/1626-bus-tour-manningham-interfaith-network
DTSTART:20191006T123000Z
DTEND:20191006T163000Z
LOCATION:Manningham Civic Office\, 699 Doncaster Road\, Doncaster VIC 3108 
 (699 Doncaster Rd\, Doncaster VIC 3108\, Australia)
SUMMARY:Bus Tour: Manningham Interfaith Network
URL:https://faithvictoria.org.au/upcoming-events/event/1626-bus-tour-mannin
 gham-interfaith-network
END:VEVENT
END:VCALENDAR
