BEGIN:VCALENDAR
VERSION:2.0
PRODID:-//https://faithvictoria.org.au///NONSGML kigkonsult.se iCalcreator 2.10.15//
METHOD:PUBLISH
BEGIN:VEVENT
UID:20260420T111641UTC-3737VMVKOn@https://faithvictoria.org.au/
DTSTAMP:20260420T111641Z
DESCRIPTION:The Mornington Peninsula Interfaith Network would like to invit
 e you to:\nListening to the Land - Spring Walk:&nbsp\;@ OT Dam\, Dromana\n
 Date:&nbsp\;Saturday 5th October 2019&nbsp\; &nbsp\;&nbsp\;&nbsp\;Time:&nb
 sp\;10am - 1pmMeeting Point:&nbsp\;Parking on Arthurs Seat Road (400 metre
 s west of Main Creek Road)\, DromanaMelway Reference:&nbsp\;171 K2 (see&nb
 sp\;https://www.melway.com.au/online-maps&nbsp\;)More Information on OT Da
 m:&nbsp\;http://www.visitmorningtonpeninsula.org/PlacesToGo/Walks/AllWalks
 /tabid/399/View/3613/OT-Dam-Circuit-Walk/Default.aspx\nListening to the La
 nd is an initiative of the Mornington Peninsula Interfaith Network\, seeki
 ng to bring people from different faith and cultural backgrounds together 
 to connect or reconnect with the Land and to be moved to care for the Land
 .\nOur Spring Listening to the Land program will be held at&nbsp\;OT DAM\,
  Dromana&nbsp\;on Saturday 5 October\, 2019. Program begins at 10am and in
 cludes an introductory talk\, a listening walk\, and a meditation. The wal
 k and meditation will be led by Lionel Lauch\, a Gunditjmara Kirrae Wurrun
 g-Bundjalung man.\nThe walk is a 3 km circuit in tranquil bushland includi
 ng Eucalyptus forests and with a boardwalk around O.T. Dam. The walk is we
 ll sign posted and borders the Hillview quarry.\nThe walk will conclude ar
 ound 1pm followed by a shared afternoon lunch . BYO Vegetarian food - some
 thing easy to share. Plates\, cups and drinks will be provided.\nMeeting p
 oint is the parking area on Arthurs Seat Road (400 metres west of Main Cre
 ek Road) Dromana.\nLook forward to seeing you there – sunshine or rain.\nC
 ost:&nbsp\;The event is by donation. &nbsp\;\n\nMore information: Contact 
 Judy O’Donnell (H): 03 5974 4969 (M): 0400 088 410\n https://faithvictoria
 .org.au/upcoming-events/event/1634-listening-to-the-land-spring-walk-morni
 ngton-peninsula-interfaith-network
DTSTART:20191005T100000Z
DTEND:20191005T130000Z
LOCATION:Parking on Arthurs Seat Road (400 metres west of Main Creek Road)\
 , Dromana VIC 3936 (527 Arthurs Seat Rd\, Arthurs Seat VIC 3936\, Australi
 a)
SUMMARY:Listening to the Land - Spring Walk: Mornington Peninsula Interfait
 h Network
URL:https://faithvictoria.org.au/upcoming-events/event/1634-listening-to-th
 e-land-spring-walk-mornington-peninsula-interfaith-network
END:VEVENT
END:VCALENDAR
