BEGIN:VCALENDAR
VERSION:2.0
PRODID:-//https://faithvictoria.org.au///NONSGML kigkonsult.se iCalcreator 2.10.15//
METHOD:PUBLISH
BEGIN:VEVENT
UID:20260423T164525UTC-2132gTmWu0@https://faithvictoria.org.au/
DTSTAMP:20260423T164525Z
DESCRIPTION:The Interfaith Centre of Melbourne invites you to:\nThe Spirit 
 of Guidance as Friend | Interspiritual Gathering\nDate: Sunday 27 Septembe
 r 2020&nbsp\; &nbsp\; &nbsp\;Time: 6pm to 6:45pmLocation: Online\nWe invit
 e you to our inclusive Interspiritual Gathering online\, for prayer\, musi
 c\, poetry\, and the wisdom of the great traditions.\nThe theme is The Spi
 rit of Guidance as Friend.\nGuest Speaker: Murshida Nuria Daly\, The Inter
 national Sufi Movement in Australia.\nFree online event | Register here&nb
 sp\;https://interfaithcentre.org.au/gathering/ https://faithvictoria.org.a
 u/upcoming-events/event/1720-the-spirit-of-guidance-as-friend-the-interfai
 th-centre-of-melbourne
DTSTART:20200927T180000Z
DTEND:20200927T184500Z
LOCATION:Melbourne VIC 3000 (Melbourne VIC\, Australia)
SUMMARY:The Spirit of Guidance as Friend: The Interfaith Centre of Melbourn
 e
URL:https://faithvictoria.org.au/upcoming-events/event/1720-the-spirit-of-g
 uidance-as-friend-the-interfaith-centre-of-melbourne
END:VEVENT
END:VCALENDAR
