BEGIN:VCALENDAR
VERSION:2.0
PRODID:-//https://faithvictoria.org.au///NONSGML kigkonsult.se iCalcreator 2.10.15//
METHOD:PUBLISH
BEGIN:VEVENT
UID:20260421T014528UTC-9650mj77k6@https://faithvictoria.org.au/
DTSTAMP:20260421T014528Z
DESCRIPTION:AFL Grand Final Holiday\nFor more information on Victoria's Pub
 lic Holidays see:&nbsp\;http://www.victoriapublicholiday.com.au/ https://f
 aithvictoria.org.au/upcoming-events/event/1313-afl-grand-final-holiday-pub
 lic-holiday
DTSTART;VALUE=DATE:20190927
LOCATION:RSEvents!Pro Location (Colorado\, USA)
SUMMARY:AFL Grand Final Holiday (Public Holiday)
URL:https://faithvictoria.org.au/upcoming-events/event/1313-afl-grand-final
 -holiday-public-holiday
END:VEVENT
END:VCALENDAR
