BEGIN:VCALENDAR
VERSION:2.0
PRODID:-//https://faithvictoria.org.au///NONSGML kigkonsult.se iCalcreator 2.10.15//
METHOD:PUBLISH
BEGIN:VEVENT
UID:20260425T200842UTC-4678kOLSwV@https://faithvictoria.org.au/
DTSTAMP:20260425T200842Z
DESCRIPTION:\nHoly Day: Navaratri Begins on Monday&nbsp\;26 September 2022E
 nds on&nbsp\;Wednesday 5 October 2022Faith: Hinduism\nDescription: Navarat
 ri\, which literally means ‘nine nights’\, is a festival honouring the God
 dess/Divine Mother and her energy/power (Shakti). This nine day festival i
 ncludes worshipping and dancing as people celebrate various aspects of the
  feminine. https://faithvictoria.org.au/upcoming-events/event/1460-navarat
 ri-hinduism
DTSTART:20220926T000000Z
DTEND:20221005T223636Z
LOCATION:RSEvents!Pro Location (Colorado\, USA)
SUMMARY:Navaratri | Hinduism 
URL:https://faithvictoria.org.au/upcoming-events/event/1460-navaratri-hindu
 ism
END:VEVENT
BEGIN:VEVENT
UID:20260425T200842UTC-4685FZCRof@https://faithvictoria.org.au/
DTSTAMP:20260425T200842Z
DESCRIPTION:\nHoly Day: Rosh HashanahBegins on Monday 26&nbsp\;September 20
 22Ends on&nbsp\;Tuesday 27 September 2022&nbsp\;Faith: Judaism\nDescriptio
 n: Jewish New Year festival\, marked by the blowing of the horn (shofar) w
 hich begins the ten days of penitence culminating in Yom Kippur (Day of At
 onement). It is the beginning of the holiest time of the year for Jews\, a
 nd the anniversary of the creation of the world.\nTo our Jewish community\
 , may you have a good and sweet new year (Shanah Tovah)! https://faithvict
 oria.org.au/upcoming-events/event/1461-rosh-hashanah-judaism
DTSTART:20220926T000000Z
DTEND:20220927T222323Z
LOCATION:RSEvents!Pro Location (Colorado\, USA)
SUMMARY:Rosh Hashanah | Judaism 	
URL:https://faithvictoria.org.au/upcoming-events/event/1461-rosh-hashanah-j
 udaism
END:VEVENT
END:VCALENDAR
