BEGIN:VCALENDAR
VERSION:2.0
PRODID:-//https://faithvictoria.org.au///NONSGML kigkonsult.se iCalcreator 2.10.15//
METHOD:PUBLISH
BEGIN:VEVENT
UID:20260423T194532UTC-4417WE6vA6@https://faithvictoria.org.au/
DTSTAMP:20260423T194532Z
DESCRIPTION:Monash Interfaith Gathering invites you to:\nMonash Intercultur
 al High Tea Book Club through Zoom\nDate: Friday 25 September 2020&nbsp\; 
 &nbsp\; &nbsp\;Time: 10:30am to 11:30amLocation: Online\nThe objectives ar
 e to:\n\nbring people from various cultural groups together for social coh
 esion\nfoster intercultural understanding and friendship\nencourage a love
  of reading\nenable exchange of views on their readings\nshare recipes fro
 m around the world\naddress social isolation – particularly if you live al
 one\n\nContact:&nbsp\;Ms Kamla Reddy – 0402436849 or Kamlavathi.reddy@gmai
 l.comMs Heather Safstrom – 0423211335 or SecretaryMIG@gmail.com https://fa
 ithvictoria.org.au/upcoming-events/event/1717-intercultural-high-tea-book-
 club-monash-interfaith-gathering
DTSTART:20200925T103000Z
DTEND:20200925T113000Z
LOCATION:Melbourne VIC 3000 (Melbourne VIC\, Australia)
SUMMARY:Intercultural High Tea Book Club: Monash Interfaith Gathering
URL:https://faithvictoria.org.au/upcoming-events/event/1717-intercultural-h
 igh-tea-book-club-monash-interfaith-gathering
END:VEVENT
END:VCALENDAR
