BEGIN:VCALENDAR
VERSION:2.0
PRODID:-//https://faithvictoria.org.au///NONSGML kigkonsult.se iCalcreator 2.10.15//
METHOD:PUBLISH
BEGIN:VEVENT
UID:20260423T212728UTC-5347UujcVr@https://faithvictoria.org.au/
DTSTAMP:20260423T212728Z
DESCRIPTION:Monash Interfaith Gathering invites you to:\nExplore how Faith 
 Communities are supporting Social Cohesion and Community Resilience in the
 se Challenging times\nDate: Thursday 24 September 2020&nbsp\; &nbsp\; &nbs
 p\; Time: 7pmLocation: Online\nJoin us in an interfaith and intercultural 
 exchange where a&nbsp\;range of local groups will share:\n\nHow faith comm
 unity groups are adapting during COVID\nHow they have responded creatively
  to needs\nAssistance required to improve capacity to help communities rem
 ain connected and resilient\n\nGuest Speakers\n\nSiobhan Wood | Council Co
 mmunity Connector Program Officer\nRev Julie Ross | Uniting Church Mt Wave
 rley\nSithy Marikar |&nbsp\;Deputy President MIG Inc on:Monash Mosque &amp
 \; ICV\; We Care\;&nbsp\;United Sri Lankan Association Aust &amp\; Vic Lan
 ka Covid Aid\nBill Pontikis | Clayton Church of Christ\nNga Hosking or Pas
 tor |&nbsp\;Cook Island &amp\; Pacific Community\nRev Tut Yao | All Nation
 s Presbyterian Church – South Sudanese Congregation\nAzita Sobhani &amp\; 
 Dr Marjan Ardebili |&nbsp\;Baha'i Community\n\nOpen Forum: Questions &amp\
 ; Discussion at end\nThere is much to celebrate concerning generous work b
 eing done in Monash. Please join us to learn about what’s going on.\nRSVP 
 by 22 Sept to Heather Safstrom secretarymig@gmail.com&nbsp\;to receive log
 in details https://faithvictoria.org.au/upcoming-events/event/1716-faith-c
 ommunities-in-challenging-times-monash-interfaith-gathering
DTSTART:20200924T190000Z
DTEND:20200924T210000Z
LOCATION:Melbourne VIC 3000 (Melbourne VIC\, Australia)
SUMMARY:Faith Communities in Challenging Times: Monash Interfaith Gathering
URL:https://faithvictoria.org.au/upcoming-events/event/1716-faith-communiti
 es-in-challenging-times-monash-interfaith-gathering
END:VEVENT
END:VCALENDAR
