BEGIN:VCALENDAR
VERSION:2.0
PRODID:-//https://faithvictoria.org.au///NONSGML kigkonsult.se iCalcreator 2.10.15//
METHOD:PUBLISH
BEGIN:VEVENT
UID:20260424T022403UTC-6451eiCcV6@https://faithvictoria.org.au/
DTSTAMP:20260424T022403Z
DESCRIPTION:Calm in the City invites you to:\nShaping Peace Together | UN I
 nternational Day of Peace\nDate: Monday 21 September 2020&nbsp\; &nbsp\; &
 nbsp\; Time: 5:15pm to 6:00pmLocation: Online webinar\nWe invite you to jo
 in a peace-filled event so relevant to these times\, celebrating and reinf
 orcing compassion\, courage and hope within the community.\nLeaders from f
 aith and non-faith backgrounds will come together\, in unity\, to each lig
 ht a candle for peace and hold a meditative space to gentle guided comment
 ary and music.\nOpening and Closing Reflections to the event will be given
  by&nbsp\;The Honourable Linda Dessau AC\, the Governor of Victoria\,&nbsp
 \;and&nbsp\;Melbourne Lord Mayor Sally Capp.\nBookings essential | Click h
 ere to register\nFor flyer\, click hereCost: Free\nFeel free to share with
  your networks.\nPresented by Calm in the City and sponsored by the Victor
 ian Multicultural Commission and the Victorian Government.\n&nbsp\; https:
 //faithvictoria.org.au/upcoming-events/event/1710-shaping-peace-together-c
 alm-in-the-city
DTSTART:20200921T171500Z
DTEND:20200921T180000Z
LOCATION:Melbourne VIC 3000 (Melbourne VIC\, Australia)
SUMMARY:Shaping Peace Together: Calm in the City
URL:https://faithvictoria.org.au/upcoming-events/event/1710-shaping-peace-t
 ogether-calm-in-the-city
END:VEVENT
BEGIN:VEVENT
UID:20260424T022403UTC-6461i7MD0s@https://faithvictoria.org.au/
DTSTAMP:20260424T022403Z
DESCRIPTION:Women's Interfaith Network (WIN) and Centre of Melbourne Multif
 aith and Others Network (COMMON) invite you to:\nPeace in our Time? Interf
 aith\, Social Change and Being the Peace |&nbsp\;UN International Day of P
 eace \nDate: Monday 21 September 2020&nbsp\; &nbsp\; &nbsp\;Time: 7:55pm t
 o 8:35pmLocation: Online webinar\nGuest speaker: Dr Ayo Ayoola-Amale\, law
 yer and conflict resolution professional\, peace builder\, ombudsman\, edu
 cator and creative writer.Program:7.55pm participants login into Zoom8.00p
 m welcome and introduction8.05pm presentation of topic8.25pm Q&amp\;A8.35p
 m closing address\nClick here for Zoom invitation link:Meeting ID: 752 248
 0 4281Passcode: ZxKd75\n&nbsp\; https://faithvictoria.org.au/upcoming-even
 ts/event/1711-peace-in-our-time-centre-of-melbourne-multifaith-and-others-
 network
DTSTART:20200921T195500Z
DTEND:20200921T203500Z
LOCATION:Melbourne VIC 3000 (Melbourne VIC\, Australia)
SUMMARY:Peace in Our Time: Centre of Melbourne Multifaith and Others Networ
 k
URL:https://faithvictoria.org.au/upcoming-events/event/1711-peace-in-our-ti
 me-centre-of-melbourne-multifaith-and-others-network
END:VEVENT
END:VCALENDAR
