BEGIN:VCALENDAR
VERSION:2.0
PRODID:-//https://faithvictoria.org.au///NONSGML kigkonsult.se iCalcreator 2.10.15//
METHOD:PUBLISH
BEGIN:VEVENT
UID:20260421T115914UTC-0890IhU7ko@https://faithvictoria.org.au/
DTSTAMP:20260421T115914Z
DESCRIPTION:Manningham Interfaith Network invites you to:\nInternational Pe
 ace Day&nbsp\;\nDate: Saturday 21 September 2019&nbsp\; &nbsp\; &nbsp\; Ti
 me: 10am&nbsp\;Location:&nbsp\;MC2 Plaza\, 699 Doncaster Road Doncaster&nb
 sp\;3108\nEveryone welcome to celebrate International Peace day.&nbsp\;\n1
 0am&nbsp\; &nbsp\; &nbsp\; Peace walk begins at Westfield Shoppingtown&nbs
 p\;10:30am Peace Torch Arrival/Official Opening\n\nPolicy and Rotary BBQ\n
 Books (free and discounted)\nLiving Stories (All ages and cultures)\nGreat
  Entertainment\nBooks\, calligraphy\, art\, interactive fun\n\nFor Faceboo
 k page\, click here.&nbsp\;\nFor flyer\, click here.&nbsp\; https://faithv
 ictoria.org.au/upcoming-events/event/1603-international-peace-day-book-fai
 r-manningham-interfaith-network
DTSTART:20190921T100000Z
DTEND:20190921T130000Z
LOCATION:MC2 Plaza\, 699 Doncaster Road\, Doncaster VIC 3108 (699 Doncaster
  Rd\, Doncaster VIC 3108\, Australia)
SUMMARY:International Peace Day Book Fair: Manningham Interfaith Network
URL:https://faithvictoria.org.au/upcoming-events/event/1603-international-p
 eace-day-book-fair-manningham-interfaith-network
END:VEVENT
BEGIN:VEVENT
UID:20260421T115914UTC-0896m3lToV@https://faithvictoria.org.au/
DTSTAMP:20260421T115914Z
DESCRIPTION:Glen Eira Interfaith Network invites you to:\nAwakening: Peace 
 in Turbulent Times | UN International Day of Peace\nDate: Saturday 21 Sept
 ember 2019&nbsp\; &nbsp\; &nbsp\; Time: 5pm to 7:30pm/Location:&nbsp\;Budd
 hist Society of Victoria Inc.\, 71 Darling Road Malvern East\, VIC 3145\nT
 ime proven-methods for busy modern times. Key Address and Panel Discussion
  with Audience Q&amp\;A.Hosted by the Buddhist Community of Victoria.\nPro
 gram:\n\n5-6pm Meet and Mingle with Light Refreshments\n6-6.30 Welcome\, O
 fficial Messages and Key Address\n6.45-7.30 Panel Discussion and Audience 
 Q&amp\;A\n\nCost: FreeBookings:&nbsp\;essential as seating limited | Regis
 ter by clicking here.&nbsp\;\nA local commemoration of UN International Da
 y of Peace presented by CITYZEN\, BSV and bENGAGED on behalf of the genera
 l community of Victoria. https://faithvictoria.org.au/upcoming-events/even
 t/1618-peace-in-turbulent-times-glen-eira-interfaith-network
DTSTART:20190921T170000Z
DTEND:20190921T193000Z
LOCATION:Buddhist Society of Victoria Inc.\, 71 Darling Road  Malvern East\
 , VIC 3145 (71 Darling Rd\, Malvern East VIC 3145\, Australia)
SUMMARY:Peace in Turbulent Times: Glen Eira Interfaith Network
URL:https://faithvictoria.org.au/upcoming-events/event/1618-peace-in-turbul
 ent-times-glen-eira-interfaith-network
END:VEVENT
BEGIN:VEVENT
UID:20260421T115914UTC-0901XGHRve@https://faithvictoria.org.au/
DTSTAMP:20260421T115914Z
DESCRIPTION:The Women's Federation for World Peace Oceania invites you to:
 \nPeace Building &amp\; our Environment |&nbsp\;UN International Day of Pe
 ace Conference 2019\nDate: Saturday 21 September 2019&nbsp\; &nbsp\; Time:
  9:30am to 3:30pmLocation:&nbsp\;One Roof Coworking and Event Space\, 77/7
 9 City Rd\, Southbank VIC 3006\nThe&nbsp\;International Day of Peace&nbsp\
 ;is observed around the world each year on 21st September. WFWP holds an a
 nnual one-day conference to support and foster peace building within our d
 iverse multicultural community.&nbsp\;\nThe one-day conference brings toge
 ther people of different communities and faiths to discuss current strateg
 ies to establish Peace at the local community level.&nbsp\;\nAlthough scie
 nce and technology are highly developed\, the peace we desire is still out
  of reach. Why? Because of a lack of knowledge or resources? Political or 
 military power? No.&nbsp\;\nIt is&nbsp\;conflict\, hatred and selfishness 
 embedded in the hearts of human beings is still causing new conflicts arou
 nd the globe. Conflict and division within the person is the starting poin
 t. Conflict starts in the hearts of human beings. Peace must start there a
 s well.\nFor program\, click here\nRegistraion is essential | Click here t
 o registerCost:&nbsp\;$55&nbsp\; https://faithvictoria.org.au/upcoming-eve
 nts/event/1622-peace-building-our-environment-un-international-day-of-peac
 e-conference
DTSTART:20190921T093000Z
DTEND:20190921T153000Z
LOCATION:One Roof Coworking and Event Space\, 77/79 City Rd\, Southbank VIC
  3006 (77/79 City Rd\, Southbank VIC 3006\, Australia)
SUMMARY:Peace Building & our Environment: UN International Day of Peace Con
 ference
URL:https://faithvictoria.org.au/upcoming-events/event/1622-peace-building-
 our-environment-un-international-day-of-peace-conference
END:VEVENT
BEGIN:VEVENT
UID:20260421T115914UTC-0906nFZw8d@https://faithvictoria.org.au/
DTSTAMP:20260421T115914Z
DESCRIPTION:The Burwood and District Inter Church Council and the Boroondar
 a&nbsp\;Interfaith Network invite you to\nUN International Day of Peace Fo
 rum\nDate: Saturday 21 September 2019&nbsp\; &nbsp\; &nbsp\; Time: 7:30pm 
 to 9pmLocation:&nbsp\;The Hartwell Church of Christ\, 248 Highfield Road\,
  Camberwell VIC 3124\nEvent MC\, Victorian Australian of the Year\, Rev Ti
 m Costello\nHear from the following speakers who will be discussing Peace 
 in today’s society with a question and answer session\n\nRev Glenn Loughre
 y Wiradjuri man and Priest at St Oswald’s Anglican Church\, Glen Iris\nShe
 rene Hassan Education Director at the Islamic Museum of Victoria\nDr Ree B
 oddé Director of Think Prevent\, a violence prevention program\nTim McCowa
 n Director of the Building Bridges interfaith program\n\nTo register\, cli
 ck here or contact (03) 9278 4938Please inform us of any access\, communic
 ation or dietary requirements by 19 Sept 2019\n&nbsp\; https://faithvictor
 ia.org.au/upcoming-events/event/1625-international-day-of-peace-forum-boro
 ondara-interfaith-network
DTSTART:20190921T193000Z
DTEND:20190921T210000Z
LOCATION:The Hartwell Church of Christ\, 248 Highfield Road\, Camberwell VI
 C 3124 (248 Highfield Rd\, Camberwell VIC 3124\, Australia)
SUMMARY:International Day of Peace Forum: Boroondara Interfaith Network
URL:https://faithvictoria.org.au/upcoming-events/event/1625-international-d
 ay-of-peace-forum-boroondara-interfaith-network
END:VEVENT
END:VCALENDAR
