BEGIN:VCALENDAR
VERSION:2.0
PRODID:-//https://faithvictoria.org.au///NONSGML kigkonsult.se iCalcreator 2.10.15//
METHOD:PUBLISH
BEGIN:VEVENT
UID:20260421T133110UTC-9779hMaWCo@https://faithvictoria.org.au/
DTSTAMP:20260421T133110Z
DESCRIPTION:Australian Religious Response to Climate Change - Victoria Arrc
 c-Vic invites you to:\nMulti-faith service for climate strike\nDate: Frida
 y 22 September 2019&nbsp\; &nbsp\; Time: 12:30pm-1:30pmLocation:&nbsp\;Wes
 ley Church Melbourne\, 148 Lonsdale Street\, Melbourne\nPeople of all fait
 hs and none are invited to come together on the day of the global climate 
 strike for a multi-faith service. Come and show that the climate crisis is
  something that unites us all. The protest itself starts at 2pm at Old Tre
 asury Building.\nClick here for more information. https://faithvictoria.or
 g.au/upcoming-events/event/1600-multi-faith-service-for-climate-strike-aus
 tralian-religious-response-to-climate-change-victoria-arrcc-v
DTSTART:20190920T123000Z
DTEND:20190920T133000Z
LOCATION:Wesley Church Melbourne\, 148 Lonsdale Street\, Melbourne\, Victor
 ia\, Australia 3000 (148 Lonsdale St\, Melbourne VIC 3000\, Australia)
SUMMARY:Multi-faith service for climate strike: Australian Religious Respon
 se to Climate Change - Victoria Arrcc-V
URL:https://faithvictoria.org.au/upcoming-events/event/1600-multi-faith-ser
 vice-for-climate-strike-australian-religious-response-to-climate-change-vi
 ctoria-arrcc-v
END:VEVENT
END:VCALENDAR
