BEGIN:VCALENDAR
VERSION:2.0
PRODID:-//https://faithvictoria.org.au///NONSGML kigkonsult.se iCalcreator 2.10.15//
METHOD:PUBLISH
BEGIN:VEVENT
UID:20260421T150706UTC-9700FXbIvT@https://faithvictoria.org.au/
DTSTAMP:20260421T150706Z
DESCRIPTION:Hume Interfaith Network invites you to:\nTalking Faith | UN Int
 ernationl Day of Peace\nDate: Thursday 19 September 2019&nbsp\; &nbsp\; &n
 bsp\;Time: 6pm to 8pmLocation:&nbsp\;Sunbury Memorial Hall\, Stawell Stree
 t\, Sunbury\, VIC 3429\nOrganised to coincide with the UN International Da
 y of Peace\, “Talking Faith” is an event inspired by the Moroccan Soup Bar
 ’s founder Hanna Assafiri’s “Speed Date a Muslim” series in 2016. Assafiri
  adopted the ‘speed dating’ format to provide a safe and respectful space 
 for local non-Muslims to meet and ask Muslims all the curly questions they
  were otherwise too shy to.\n“Talking Faith” says you CAN ask that - to ex
 plore\, challenge or better understand your racial and religious perceptio
 ns with a follower of a different faith – Christian\, Quaker\, Hindu\, Bud
 dhist\, Sikh or Muslim\n“Talking Faith” is not a romantic or social event.
  It's a meetup with a difference\, designed to provide a safe space for pe
 ople from different faiths or no faith\, to ask questions and provide an o
 pportunity for learning and understanding.\nCost:&nbsp\;Free |&nbsp\;Child
 ren welcome if accompanied by an adult. Children's activities providedTo r
 egister\, click here.&nbsp\;\nPlease RSVP for catering purposes | Dietary 
 requirements catered for\, please advise Liz: (03) 9205 2467 |&nbsp\;eliza
 bethsh@hume.vic.gov.au https://faithvictoria.org.au/upcoming-events/event/
 1611-talking-faith-hume-interfaith-network
DTSTART:20190919T180000Z
DTEND:20190919T200000Z
LOCATION:Sunbury Memorial Hall\, Stawell Street\,  Sunbury\, VIC 3429 (Staw
 ell St\, Sunbury VIC 3429\, Australia)
SUMMARY:Talking Faith: Hume Interfaith Network
URL:https://faithvictoria.org.au/upcoming-events/event/1611-talking-faith-h
 ume-interfaith-network
END:VEVENT
END:VCALENDAR
