BEGIN:VCALENDAR
VERSION:2.0
PRODID:-//https://faithvictoria.org.au///NONSGML kigkonsult.se iCalcreator 2.10.15//
METHOD:PUBLISH
BEGIN:VEVENT
UID:20260421T225858UTC-1740vpRgsH@https://faithvictoria.org.au/
DTSTAMP:20260421T225858Z
DESCRIPTION:DaslakshanaBegins on Sunday 8 September 2024Ends on Tuesday 17 
 September 2024Faith: Jainism\nDaslakshana is a ten-day festival celebrated
  by Jains (Digambara sect)\, honouring the ten cardinal virtues of the sou
 l: forgiveness\, humility\, straight forwardness\, contentment\, truth\, s
 ensual restraint\, austerities\, charity\, non-possessiveness\, and celiba
 cy. https://faithvictoria.org.au/upcoming-events/event/2086-daslakshana-ja
 inism
DTSTART:20240908T174238Z
DTEND:20240917T174239Z
LOCATION:RSEvents!Pro Location (Colorado\, USA)
SUMMARY:Daslakshana | Jainism
URL:https://faithvictoria.org.au/upcoming-events/event/2086-daslakshana-jai
 nism
END:VEVENT
END:VCALENDAR
