BEGIN:VCALENDAR
VERSION:2.0
PRODID:-//https://faithvictoria.org.au///NONSGML kigkonsult.se iCalcreator 2.10.15//
METHOD:PUBLISH
BEGIN:VEVENT
UID:20260424T153352UTC-2304J4ClDc@https://faithvictoria.org.au/
DTSTAMP:20260424T153352Z
DESCRIPTION:The Interfaith Centre of Melbourne invites you to:\nUncertainty
  and the Possibilities of Hope\nDate: Sunday 13 September 2020&nbsp\; &nbs
 p\; &nbsp\;Time: 9am or 6pm:Location: Pre-recorded online event\nYou are w
 elcome to join our inclusive gathering for prayer\, music\, poetry and the
  wisdom of the great traditions to inspire and spiritually strengthen us a
 s we navigate our way through the pandemic.\nSwami Sunishthananda\, Vedant
 a Centre of Melbourne\, will share wisdom from the Hindu tradition\, Aunty
  Helen Bnads will share an Aboriginal perspective.\nTo register\, please c
 lick here | Free event https://faithvictoria.org.au/upcoming-events/event/
 1712-uncertainty-and-the-possibilities-of-hope-the-interfaith-centre-of-me
 lbourne
DTSTART:20200913T090000Z
DTEND:20200913T100000Z
LOCATION:Melbourne VIC 3000 (Melbourne VIC\, Australia)
SUMMARY:Uncertainty and the Possibilities of Hope: The Interfaith Centre of
  Melbourne
URL:https://faithvictoria.org.au/upcoming-events/event/1712-uncertainty-and
 -the-possibilities-of-hope-the-interfaith-centre-of-melbourne
END:VEVENT
END:VCALENDAR
