BEGIN:VCALENDAR
VERSION:2.0
PRODID:-//https://faithvictoria.org.au///NONSGML kigkonsult.se iCalcreator 2.10.15//
METHOD:PUBLISH
BEGIN:VEVENT
UID:20260422T050630UTC-87123V6gT9@https://faithvictoria.org.au/
DTSTAMP:20260422T050630Z
DESCRIPTION:The Ballarat Interfaith Network invites you to:\nHolistic Healt
 h and the Positive Influence of Faith\nDate: Friday 13 September 2019&nbsp
 \; &nbsp\; &nbsp\;Time: 6:45pmLocation:&nbsp\;The Four Corners Cafe @ Bark
 ly Square\, 25-39 Barkly Street\, Ballarat East VIC 3350\nThe speakers add
 ressing this most currently concerning topic of emotional and psychologica
 l health and wellbeing: Holistic Health and the Positive Influence of Fait
 h\, will be looking at this issue from their own unique experiences and fi
 elds of professional engagement.&nbsp\;Discussion following presentation o
 n the topic by four local speakers:\n\nSundram Sivamalai is a Victorian Mu
 lticultural Commisioner as well as a community engagement leader.\nRachel 
 Muir is a current City of Ballarat Intercultural Ambassador and also Abori
 ginal Development Officer\, Ballarat Community Health.\nKevan Pitcher is a
  psychologist and member of the local Baha’i faith community.\nCr Des Huds
 on is a City of Ballarat Councillor as well as Victoria Police Leading Sen
 ior Constable – Youth Resource Officer.\n\nFollowing the addresses of thes
 e four local speakers\, those attending the Forum will have the opportunit
 y to share in a round-table discussion of what they have heard and what th
 ey personally think of the issue.\nCost:&nbsp\;Free (donations welcome) | 
 Coffee &amp\; refreshments providedFor bookings\, click here | For flyer\,
  click here&nbsp\;&nbsp\; https://faithvictoria.org.au/upcoming-events/eve
 nt/1619-holistic-health-and-the-positive-influence-of-faith-ballarat-inter
 faith-network
DTSTART:20190913T184500Z
DTEND:20190913T203000Z
LOCATION:The Four Corners Cafe @ Barkly Square\, 25-39 Barkly Street\, Ball
 arat East VIC 3350 (25 Barkly St\, Ballarat East VIC 3350\, Australia)
SUMMARY:Holistic Health and the Positive Influence of Faith: Ballarat Inter
 faith Network
URL:https://faithvictoria.org.au/upcoming-events/event/1619-holistic-health
 -and-the-positive-influence-of-faith-ballarat-interfaith-network
END:VEVENT
END:VCALENDAR
