BEGIN:VCALENDAR
VERSION:2.0
PRODID:-//https://faithvictoria.org.au///NONSGML kigkonsult.se iCalcreator 2.10.15//
METHOD:PUBLISH
BEGIN:VEVENT
UID:20260422T190815UTC-7378SUNOCK@https://faithvictoria.org.au/
DTSTAMP:20260422T190815Z
DESCRIPTION:The Wyndham Interfaith Network invites you to:\nPlaces of Worsh
 ip Tour | Learning more about each other's beliefs\, cultures and traditio
 ns.\nDate: Thursday 13 September 2018&nbsp\; &nbsp\; &nbsp\; Time: 9:15am 
 to 2:30pmBus pick-up Location:&nbsp\;Bus will depart at 9:15am from Wyndha
 m Community Education\, corner of Duncans Rd and Synnot St\, Werribee VIC 
 3030 (Drop off at this location by 2:30pm)\nTour will visit:\n10am-11:30am
 : The Islamic Museum of Australia | 15a Anderson Street Thornbury. Include
 s a one hour guided tour | Cost $10.12pm-1:30pm: Sri Guru Singh Sabha Sikh
  Gurudwara | 344 Hume Hwy Craigieburn. Includes vegetarian lunch | Please 
 bring a hair covering if you have one.\nFor flyer\, please click here.&nbs
 p\;\nCost: Free&nbsp\;but Museum entry is $10 | A vegetarian lunch will be
  provided at the Sri Guru Sing Sabha GurudwaraRegistration: Please click h
 ere&nbsp\;| Bus places limited to 50RSVP essential: Monday 10 September | 
 Laurence Gray (03) 9742 4013 | laurenceg@wyndhamcec.org.au https://faithvi
 ctoria.org.au/upcoming-events/event/1399-tour-to-places-of-worship-wyndham
 -interfaith-network
DTSTART:20180913T091500Z
DTEND:20180913T143000Z
LOCATION:Wyndham Community Education Centre\, Corner of Duncans Rd & Synnot
  St\, Werribee (106 Duncans Rd\, Werribee VIC 3030\, Australia)
SUMMARY:Tour to Places of Worship: Wyndham Interfaith Network
URL:https://faithvictoria.org.au/upcoming-events/event/1399-tour-to-places-
 of-worship-wyndham-interfaith-network
END:VEVENT
END:VCALENDAR
