BEGIN:VCALENDAR
VERSION:2.0
PRODID:-//https://faithvictoria.org.au///NONSGML kigkonsult.se iCalcreator 2.10.15//
METHOD:PUBLISH
BEGIN:VEVENT
UID:20260422T205206UTC-6158i1Vosz@https://faithvictoria.org.au/
DTSTAMP:20260422T205206Z
DESCRIPTION:The Australian Intercultural Society invites you to:\nConversat
 ion 'DIY Spirituality: A growing modern trend?&rdquo\; | Panel Discussion
 \nDate: Wednesday 12 September 2018&nbsp\;&nbsp\;&nbsp\;&nbsp\;&nbsp\; Tim
 e: 6pm to 8pm Location: Old Warden's Lodge\, Trinity College\, 100 Royal P
 arade\, Parkville\, VIC 3010\nModerator: Dr Zuleyha Keskin\, ISRA\, Charle
 s Stuart University |&nbsp\;Dr Zuleyha Keskin is a snr lecturer in Islamic
  Studies at Charles Sturt University. Zuleyha completed her PhD on the top
 ic of inner peace from an Islamic perspective.Panelists:\n\nSalih Yucel\, 
 Associate Professor\, Fethullah Gulen Chair\, ACU |&nbsp\;Assoc Prof Salih
  is at the Australian Catholic University and Charles Sturt University. He
  completed his PhD on the 'The Effect of Prayer on Muslim Patients Well-be
 ing' at Boston University\nBishop Philip Hugins\, Anglican Diocese of Melb
 ourne |&nbsp\;Bishop Philip Huggins was ordained in 1977 &amp\; is current
 ly the Bishop of the Oodthenong area. He is a practitioner and teacher of 
 the Jesus Prayer for many years\n\nSpirituality means different things to 
 different people. Some people feel spirituality can only be nourished from
  mainstream faith traditions whereas others feel an internal connection th
 rough meditation is sufficient to harness tranquillity and serenity. In ou
 r dynamic and complex world\, can traditional faiths like Christianity and
  Islam still be an enabler in attaining higher states of spirituality or a
 re more people likely to distance themselves from conventional faith tradi
 tions to explore and practice spirituality for themselves ? Can a person r
 each the heights of spirituality through their own life experiences and th
 rough their own meditative practices ? Why are so many young people distan
 cing themselves from conventional faith traditions and becoming agnostic o
 r unbelievers ? These and more will be discussed in our conversation panel
 .\nFor more information\, please click on the event&nbsp\;Facebook page. C
 lick here for flyer.&nbsp\;For registration\, please click here. https://f
 aithvictoria.org.au/upcoming-events/event/1389-conversation-diy-spirituali
 ty-a-growing-modern-trend-australian-intercultural-society
DTSTART:20180912T180000Z
DTEND:20180912T200000Z
LOCATION:Old Warden's Lodge\, Trinity College\, 100 Royal Parade\, Parkvill
 e\, VIC 3010 (100 Royal Parade\, Parkville VIC 3010\, Australia)
SUMMARY:Conversation 'DIY Spirituality: A growing modern trend?”: Australia
 n Intercultural Society
URL:https://faithvictoria.org.au/upcoming-events/event/1389-conversation-di
 y-spirituality-a-growing-modern-trend-australian-intercultural-society
END:VEVENT
BEGIN:VEVENT
UID:20260422T205206UTC-6170JvaCp8@https://faithvictoria.org.au/
DTSTAMP:20260422T205206Z
DESCRIPTION:The City of Darebin invites you to:\nInterfaith Response to Cli
 mate Emergency Conference\nDates:&nbsp\;Wednesday 12 September 2018&nbsp\;
  &nbsp\; &nbsp\; Time: 10:15amLocation: Northcote Town Hall\, 189 High Str
 eet\, Northcote\nIn 2017 Darebin City Council adopted its Climate Emergenc
 y Plan\, which recognises we are in a state of climate emergency requiring
  urgent action by all levels of government\, including local councils.\nWe
  are pleased to invite the interfaith community - along with others who ma
 y be interested - to Darebin Council&rsquo\;s Climate Emergency Conference
  and to participate in as much of the proceedings as possible. This gather
 ing brings together people and organisations with shared concerns for our 
 environment to demonstrate leadership in climate emergency action. The aim
  of this conference is to identify strategic action and opportunities for 
 collaboration in addressing the climate emergency.\nDarebin&rsquo\;s own R
 ev. Alex Sangster from Fairfield Uniting Church\, and Tejopala Rawls\, Com
 munity Organiser from Australian Religious Response to Climate Change (ARR
 CC) will speak on &ldquo\;Radical Action at the Heart of Faith: work withi
 n Faith Communities to fight climate apathy&rdquo\;.\nCost: FreeFor regist
 rations\, please click here.&nbsp\;More information in flyer\, page 4 | pl
 ease click here. https://faithvictoria.org.au/upcoming-events/event/1404-i
 nterfaith-response-to-the-climate-emergency-conference-city-of-darebin
DTSTART:20180912T101500Z
DTEND:20180912T111500Z
LOCATION:Northcote Townhall\, 189 High Street Northcote VIC 3070 (Northcote
  Townhall\, 189 High Street Northcote VIC 3070)
SUMMARY:Interfaith Response to the Climate Emergency Conference: City of Da
 rebin
URL:https://faithvictoria.org.au/upcoming-events/event/1404-interfaith-resp
 onse-to-the-climate-emergency-conference-city-of-darebin
END:VEVENT
END:VCALENDAR
