BEGIN:VCALENDAR
VERSION:2.0
PRODID:-//https://faithvictoria.org.au///NONSGML kigkonsult.se iCalcreator 2.10.15//
METHOD:PUBLISH
BEGIN:VEVENT
UID:20260422T105641UTC-1020zIVH8d@https://faithvictoria.org.au/
DTSTAMP:20260422T105641Z
DESCRIPTION:Knox Interfaith Network invites you to:\nFaith Perspectives on 
 Death &amp\; Dying | Speed Dating Q &amp\; A Format\nDate: Tuesday 10 Sept
 ember 2019&nbsp\; &nbsp\; &nbsp\; &nbsp\;Time: 6pm to 8:30pmLocation:&nbsp
 \;Knox Civic Centre\, 511 Burwood Hwy\, Wantirna South VIC 3152\nJoin us f
 or a light supper and meet a diverse group of people to learn about differ
 ent faiths views on Death and Dying.&nbsp\;Chat with people of different f
 aiths over a cuppa.Discuss how each faith prepares for death and burials a
 s well as the etiquettes for funerals. Appreciate the rich cultural and re
 ligious fabric of our community.&nbsp\;Guest speakers from Palliative Care
  Victoria and Be the Ripple\nCost: Free&nbsp\;| Limited seats - Booking es
 sential RSVP: Friday\, 6 September 2019 |&nbsp\;&nbsp\;03 9557 6713 |&nbsp
 \;info@knoxinterfaith.org.au&nbsp\;For flyer\, click here.&nbsp\; https://
 faithvictoria.org.au/upcoming-events/event/1612-faith-perspectives-on-deat
 h-dying-knox-interfaith-network
DTSTART:20190910T180000Z
DTEND:20190910T203000Z
LOCATION:Knox Civic Centre\, 511 Burwood Hwy\, Wantirna South VIC 3152 (511
  Burwood Hwy\, Wantirna South VIC 3152\, Australia)
SUMMARY:Faith Perspectives on Death & Dying: Knox Interfaith Network
URL:https://faithvictoria.org.au/upcoming-events/event/1612-faith-perspecti
 ves-on-death-dying-knox-interfaith-network
END:VEVENT
END:VCALENDAR
