BEGIN:VCALENDAR
VERSION:2.0
PRODID:-//https://faithvictoria.org.au///NONSGML kigkonsult.se iCalcreator 2.10.15//
METHOD:PUBLISH
BEGIN:VEVENT
UID:20260422T135544UTC-7288mA4FSF@https://faithvictoria.org.au/
DTSTAMP:20260422T135544Z
DESCRIPTION:Greenfaith\, Cultural Infusion\, Religions for Peace Australia 
 and United Religions Initiative invite you to:\nLIving the Change Year 2Fa
 ithful choices for a flourishing world\nDate: Sunday 8 September 2019&nbsp
 \; &nbsp\; Time: 2:30pm to 5pmLocation:&nbsp\;Blue Room\,&nbsp\;Multicultu
 ral Hub\, 506 Elizabeth Street \, Melbourne CBD\, Victoria 3000\nJoin us t
 o celebrate LIVING THE CHANGE YEAR TWO together: creating a flourishing wo
 rld for all. We gather as members of diverse faith communities and those w
 ho care for our planet to share our stories of change\, transformation\, a
 nd regeneration. We tap into our deepest values to find the inspiration to
  address climate change and support each other in the journey. \nProgram:
 \n\nSpeaker on 'Indigenous Spirituality and Climate Change'\nFun activitie
 s\nSmall groups sharing\nVegan finger food feast\n\nCost: Free |&nbsp\;For
  bookings\, click here.&nbsp\;Contact: Sue Ennis: wcrpaust@iinet.net.au&nb
 sp\;| 0400 069 014 https://faithvictoria.org.au/upcoming-events/event/1601
 -living-the-change-year-two-living-the-change
DTSTART:20190908T143000Z
DTEND:20190908T170000Z
LOCATION:Multicultural Hub\, 506 Elizabeth Street\, Melbourne VIC 3000 (506
  Elizabeth St\, Melbourne VIC 3000\, Australia)
SUMMARY:Living the Change Year Two: Living the Change
URL:https://faithvictoria.org.au/upcoming-events/event/1601-living-the-chan
 ge-year-two-living-the-change
END:VEVENT
END:VCALENDAR
