BEGIN:VCALENDAR
VERSION:2.0
PRODID:-//https://faithvictoria.org.au///NONSGML kigkonsult.se iCalcreator 2.10.15//
METHOD:PUBLISH
BEGIN:VEVENT
UID:20260422T105350UTC-0201xuRAWZ@https://faithvictoria.org.au/
DTSTAMP:20260422T105350Z
DESCRIPTION:\n&nbsp\;\nHoly Day: Ganesh Chaturthi\nDate: Saturday 7 Septemb
 er 2024 **Faith: Hinduism\nDescription: Ganesh Chaturthi is a Hindu festiv
 al celebrating the birthday of Lord Ganesh\, one of the major Hindu deitie
 s. Ganesh has the head of an elephant and is known as the remover of obsta
 cles.\n** Local or regional customs may use a variation of this date https
 ://faithvictoria.org.au/upcoming-events/event/2068-ganesh-chaturthi-hindui
 sm
DTSTART;VALUE=DATE:20240907
LOCATION:RSEvents!Pro Location (Colorado\, USA)
SUMMARY:Ganesh Chaturthi | Hinduism 
URL:https://faithvictoria.org.au/upcoming-events/event/2068-ganesh-chaturth
 i-hinduism
END:VEVENT
BEGIN:VEVENT
UID:20260422T105350UTC-0209ZGLVn7@https://faithvictoria.org.au/
DTSTAMP:20260422T105350Z
DESCRIPTION:SamvatsariSaturday 7 September 2024Faith: Jainism\nKnown as the
  Festival of Forgiveness\, Samvatsari is celebrated on the last day of Par
 yushana. On this day\, Jains (Swetamber sect) offer and seek forgiveness f
 or their actions committed knowingly or unknowingly.\n&nbsp\; https://fait
 hvictoria.org.au/upcoming-events/event/2085-samvatsari-jainism
DTSTART;VALUE=DATE:20240907
LOCATION:RSEvents!Pro Location (Colorado\, USA)
SUMMARY:Samvatsari | Jainism
URL:https://faithvictoria.org.au/upcoming-events/event/2085-samvatsari-jain
 ism
END:VEVENT
BEGIN:VEVENT
UID:20260422T105350UTC-0213nuTwU5@https://faithvictoria.org.au/
DTSTAMP:20260422T105350Z
DESCRIPTION:\n&nbsp\;\nHoly Day: Paryushana\nStart date: Saturday 31 August
  2024End date: Saturday 19 September 2024Faith: Jainism\nDescription: ‘Par
 yushana’ means ‘to stay in one place’\, signifying a time of reflection an
 d repentance for nuns and monks. For lay Jains (Swetamber sect)\, this eig
 ht-day festival is an inward journey of reflection\, a time for fasting\, 
 taking vows\, and imposing restrictions on oneself to keep the mind firmly
  fixed on spirituality.\nTo the Jain community\, on this holy day of Mahap
 arva Paryushan\, may you grant forgiveness to all living beings\, amd may 
 all living beings grant you forgiveness.\n&nbsp\;\n&nbsp\; https://faithvi
 ctoria.org.au/upcoming-events/event/2087-paryushana-jainism
DTSTART:20240831T143115Z
DTEND:20240907T053024Z
LOCATION:RSEvents!Pro Location (Colorado\, USA)
SUMMARY:Paryushana | Jainism
URL:https://faithvictoria.org.au/upcoming-events/event/2087-paryushana-jain
 ism
END:VEVENT
END:VCALENDAR
