BEGIN:VCALENDAR
VERSION:2.0
PRODID:-//https://faithvictoria.org.au///NONSGML kigkonsult.se iCalcreator 2.10.15//
METHOD:PUBLISH
BEGIN:VEVENT
UID:20260422T154844UTC-0175tsVLCB@https://faithvictoria.org.au/
DTSTAMP:20260422T154844Z
DESCRIPTION:Democracy in Colour invites you to:\nSilent and Strong: LGBTQI+
 \, Culturally Diverse and Religious:\nDate: Saturday 7 September 2019&nbsp
 \; &nbsp\; &nbsp\;Time: 4pm to 6:30pmLocation:&nbsp\;Donkey Wheel House\, 
 673 Bourke St\, Melbourne VIC 3000\, Australia\nJoin Democracy in Colour f
 or an evening of conversation about what it means to be culturally diverse
  and religious in queer spaces!\nA range of speakers from various backgrou
 nds will share their lived experiences and lead the discussion on what it 
 is like within the LGBTQI+ communities and more.\nThis event will centre a
 round the voices of multicultural and religious groups who identify as LGB
 TQI+. All multicultural and religious queer folk and allies are welcome to
  come along\, listen\, and learn.\nThere will be 15-20 minutes of time at 
 the end of the discussion for questions from the audience.\nRSVP on Facebo
 ok page by clicking here.&nbsp\; https://faithvictoria.org.au/upcoming-eve
 nts/event/1616-silent-and-strong-lgbtqi-culturally-diverse-and-religious-d
 emocracy-in-colour
DTSTART:20190907T160000Z
DTEND:20190907T183000Z
LOCATION:Donkey Wheel House\, 673 Bourke St\, Melbourne VIC 3000\, Australi
 a (673 Bourke St\, Melbourne VIC 3000\, Australia)
SUMMARY:Silent and Strong: LGBTQI+\, Culturally Diverse and Religious: Demo
 cracy in Colour
URL:https://faithvictoria.org.au/upcoming-events/event/1616-silent-and-stro
 ng-lgbtqi-culturally-diverse-and-religious-democracy-in-colour
END:VEVENT
END:VCALENDAR
