BEGIN:VCALENDAR
VERSION:2.0
PRODID:-//https://faithvictoria.org.au///NONSGML kigkonsult.se iCalcreator 2.10.15//
METHOD:PUBLISH
BEGIN:VEVENT
UID:20260422T204700UTC-3220l8tCel@https://faithvictoria.org.au/
DTSTAMP:20260422T204700Z
DESCRIPTION:The Brimbank and Maribyrnong Interfaith Network invites you to:
 \nPlaces of Worship Bus Tour\nDate:&nbsp\;Wednesday 4 September 2019&nbsp\
 ; &nbsp\; &nbsp\; &nbsp\;&nbsp\;Time: 8:50am (Sunshine) and 9:10am (Footsc
 ray) to 2:45pmPick-up Location: 8:50am: Visy Cares Hub - 80B Harvester Rd\
 , Sunshine9:10am – Footscray Town Hall - 61 Napier St\, Footscray Finish a
 t approximately 2:45pm – Drop off is at pick up point.\nWe will visit the 
 Islamic Museum of Australia in Thornbury. The Islamic Museum of Australia 
 (IMA) provides educational and cross-cultural experiences and showcases th
 e artistic and cultural heritage of Muslims in Australia and abroad. Throu
 gh the five permanent galleries — Islamic Faith\, Islamic Contributions to
  Civilisation\, Art\, Architecture and Australian Muslim History — the mus
 eum fosters a more nuanced and realistic understanding of what it means to
  be an Australian Muslim.\nThe second stop will be Gurudwara Sahib in Crag
 ieburn. This is the center of the local Sikh community\, spreading the val
 ues of sikhism and fulfilling the religious needs of the community. People
  from a radius of around 35Kms come here every Sunday and Wednesday\, for 
 the Diwans (Prayers). This Gurudwara Sahib offers some free facilities to 
 the public\, such as the Use of kitchen\, Van for Sri Guru Granth Sahib Ji
 \, and Rooms for stay. This Gurudawara was designed keeping in mind the Tr
 aditional design and structure of the Indian Historical Gurudawaras which 
 will be prominent in the special design of the Gurudawara Building.\nPlace
 s are limited so please register here!\nMore information:&nbsp\;http://www
 .bmin.org.au Contact: Petr Svoboda |&nbsp\;petr.svoboda@maribyrnong.vic.go
 v.au&nbsp\;| (03) 9688 0452\nOrganised in partnership with Melton Interfai
 th Network with generous support from Victorian Multicultural Commission.
 \n&nbsp\; https://faithvictoria.org.au/upcoming-events/event/1593-tour-to-
 places-of-worship-brimbank-and-maribyrnong-interfaith-network
DTSTART:20190904T085000Z
DTEND:20190904T144500Z
LOCATION:Brimbank City Council\, Visy Cares Hub\, 80B Harvester Road\, Suns
 hine (80B Harvester Rd\, Sunshine VIC 3020\, Australia)
SUMMARY:Tour to Places of Worship: Brimbank and Maribyrnong Interfaith Netw
 ork
URL:https://faithvictoria.org.au/upcoming-events/event/1593-tour-to-places-
 of-worship-brimbank-and-maribyrnong-interfaith-network
END:VEVENT
END:VCALENDAR
