BEGIN:VCALENDAR
VERSION:2.0
PRODID:-//https://faithvictoria.org.au///NONSGML kigkonsult.se iCalcreator 2.10.15//
METHOD:PUBLISH
BEGIN:VEVENT
UID:20260424T061428UTC-2725x8AE62@https://faithvictoria.org.au/
DTSTAMP:20260424T061428Z
DESCRIPTION:DaslakshanaBegins on Friday 29 August 2025Ends on Sunday 7 Sept
 ember 2025Faith: Jainism\nDaslakshana is a ten-day festival celebrated by 
 Jains (Digambara sect)\, honouring the ten cardinal virtues of the soul: f
 orgiveness\, humility\, straight forwardness\, contentment\, truth\, sensu
 al restraint\, austerities\, charity\, non-possessiveness\, and celibacy. 
 https://faithvictoria.org.au/upcoming-events/event/2232-daslakshana-jainis
 m
DTSTART:20250829T174238Z
DTEND:20250907T174239Z
LOCATION:RSEvents!Pro Location (Colorado\, USA)
SUMMARY:Daslakshana | Jainism
URL:https://faithvictoria.org.au/upcoming-events/event/2232-daslakshana-jai
 nism
END:VEVENT
BEGIN:VEVENT
UID:20260424T061428UTC-2734B5PH5D@https://faithvictoria.org.au/
DTSTAMP:20260424T061428Z
DESCRIPTION:You are invited to:\nGaza vigil: We will speak their names\nDat
 e: Wednesday 3 September 7:20am to Thursday 4 September 1:30pm\, 2025&nbsp
 \; &nbsp\; &nbsp\;Location: The steps of Collins St Baptist Church\, 174 C
 ollins St\, Melbourne\nWe will honour each life\, mourn their futures that
  have been brutally taken.&nbsp\;\nFor 30 continuous hours we will read th
 e names of the more than 18\,000 children killed in Gaza as well as the 21
 0 children killed in the West Bank and the 40 children killed in Israel.&n
 bsp\;\nThis vigil will be a prayerful expression of lament and outrage and
  we call for an end to the violence being inflicted on the people of Gaza.
 &nbsp\;\nMelbourne artists will share live music to accompany the honourin
 g of the names from 6 to 10pm.&nbsp\;\nAll are invited to join - in silent
  witness\, in reading names. Musicians are invited to accompany the readin
 gs of names.&nbsp\;\nFor RSVP\, please click here.&nbsp\; https://faithvic
 toria.org.au/upcoming-events/event/2429-gaza-vigil-we-will-speak-their-nam
 es
DTSTART:20250903T073000Z
DTEND:20250904T133000Z
LOCATION:The steps of Collins St Baptist Church\, 174 Collins St Melbourne 
 VIC 3000 (174 Collins St\, Melbourne VIC 3000\, Australia)
SUMMARY:Gaza vigil: We will speak their names
URL:https://faithvictoria.org.au/upcoming-events/event/2429-gaza-vigil-we-w
 ill-speak-their-names
END:VEVENT
END:VCALENDAR
