BEGIN:VCALENDAR
VERSION:2.0
PRODID:-//https://faithvictoria.org.au///NONSGML kigkonsult.se iCalcreator 2.10.15//
METHOD:PUBLISH
BEGIN:VEVENT
UID:20260423T034245UTC-6466XalnSv@https://faithvictoria.org.au/
DTSTAMP:20260423T034245Z
DESCRIPTION:The Sikh Interfaith Council of Victoria invites you to:\nForum 
 on Freedom of ReligionResponsibility\, Respect &amp\; Dignity in a Plurali
 st Society\nDate: Saturday 31 August 2019&nbsp\; &nbsp\; &nbsp\;Time: 11am
  to 3:30pmLocation:&nbsp\;Swinburne University of Technology\, Advanced Te
 chnology Centre (ATC)\, 427-451 Burwood Road\, Hawthorn\, VIC 3122\nKeynot
 e speakers:\n\nMr Chin Tan\, Race Discrimination Commissioner Australia\nM
 r Bhajan Singh (Singapore)\, Former Member\, Singapore Presidential Counci
 l for Religious Harmony (PCRH)\, National Steering Committee for Racial an
 d Religious Harmony\, Chairman\, Sikh Advisory Board Singapore\nModerator\
 , Professor Joseph Camilleri\, OAM (La Trobe University)\n\nForum panelist
 s:\n\nDr Jackie Huggins\, AM\, FAHA\, Former Co-Chair\, National Congress 
 of Australia’s First Peoples\nSheikh Alaa El Zokm\, Member\, Board of Imam
 s Victoria &amp\; Australian National Imams Council\nBishop Phillip Huggin
 s\, President\, National Council of Churches in Australia\nMr Jasbir Singh
  Suropada\, Chairperson\, Sikh Interfaith Council of Victoria\nSwami Sunis
 hthananda\, Vice President\, Vedanta Centre of Melbourne\nVenerable Thich 
 Phuoc Tan\, OAM\, Abbot of Quang Minh Temple &amp\; President\, Buddhist C
 ouncil of Victoria\nMs Ida Walker\, Director of Discourse\, Australian Bah
 a’i Community\n\nProgram:\n\n10.45 am Registration\, coffee &amp\; tea\, E
 xhibition on Sikh Faith\n11.30 am -12.15pm Vegetarian Lunch provided\n12.1
 5 pm Formal Program commences\, followed by Q and A\n2.30 pm Musical and C
 ultural performances\n3.30 pm Program concludes\n\nCost: Free | To registe
 r\, click here.&nbsp\;\nClick here for flyer. https://faithvictoria.org.au
 /upcoming-events/event/1604-forum-on-freedom-of-religion-sikh-interfaith-c
 ouncil-of-victoria
DTSTART:20190831T110000Z
DTEND:20190831T153000Z
LOCATION:Swinburne University of Technology  Advanced Technology Centre (AT
 C)  427-451 Burwood Road  Hawthorn\, VIC 3122 (427 Burwood Rd\, Hawthorn V
 IC 3122\, Australia)
SUMMARY:Forum on Freedom of Religion: Sikh Interfaith Council of Victoria
URL:https://faithvictoria.org.au/upcoming-events/event/1604-forum-on-freedo
 m-of-religion-sikh-interfaith-council-of-victoria
END:VEVENT
END:VCALENDAR
