BEGIN:VCALENDAR
VERSION:2.0
PRODID:-//https://faithvictoria.org.au///NONSGML kigkonsult.se iCalcreator 2.10.15//
METHOD:PUBLISH
BEGIN:VEVENT
UID:20260423T070346UTC-9494Tjxztv@https://faithvictoria.org.au/
DTSTAMP:20260423T070346Z
DESCRIPTION:Uniting Church in Australia invites you to:\nReport Launch of t
 he Resilient Women Project\nDate: Thursday 29 August 2019&nbsp\; &nbsp\; &
 nbsp\;Time: 5:30pm to 8pmLocation:&nbsp\;Centre for Theology and Ministry\
 , 29 College Crescent\, Parkville\, VIC 3052\nYou are warmly invited to at
 tend The Report Launch of TheResilient Women Project.&nbsp\;Over the past 
 five years\, many of you have participated in the Resilient Women Project 
 workshops and forums held across Victoria. The project addressed the compl
 ex patterns of Islamophobia and how it shapes prejudice and violence again
 st Muslim women in Victoria. This event will present the report that has r
 esulted\, which draws on the data from these forums and workshops. The rep
 ort reflects on the lived experiences of Muslim women as victims of prejud
 ice. It examines the impacts which result from the intersecting spaces Mus
 lim women occupy: as women\, as Muslims and\, for many\, as women of colou
 r.It also explores the impact upon both identity and belonging as Australi
 an Muslim women\, as well as the many challenges to accessing justice that
  were disclosed.We invite you to hear from guest speakers and be part of t
 he change and to work together in this important community safety issue.We
  are so grateful for your participation\, and hope you will be interested 
 in hearing about\, and reading\, what has resulted.\nContact:&nbsp\;Ann.By
 rne@victas.uca.org.au (Events Coordinator) |&nbsp\;April.Kailahi@victas.uc
 a.org.au&nbsp\;(Interfaith Community Developer)To register\, click here.&n
 bsp\; https://faithvictoria.org.au/upcoming-events/event/1595-report-launc
 h-of-the-resilient-women-project-uniting-church-in-australia
DTSTART:20190829T173000Z
DTEND:20190829T200000Z
LOCATION:Centre for Theology and Ministry\, 29 College Crescent\, Parkville
 \, VIC 3052 (29 College Cres\, Parkville VIC 3052\, Australia)
SUMMARY:Report Launch of the Resilient Women Project: Uniting Church in Aus
 tralia
URL:https://faithvictoria.org.au/upcoming-events/event/1595-report-launch-o
 f-the-resilient-women-project-uniting-church-in-australia
END:VEVENT
END:VCALENDAR
