BEGIN:VCALENDAR
VERSION:2.0
PRODID:-//https://faithvictoria.org.au///NONSGML kigkonsult.se iCalcreator 2.10.15//
METHOD:PUBLISH
BEGIN:VEVENT
UID:20260423T091422UTC-4862K2sW1p@https://faithvictoria.org.au/
DTSTAMP:20260423T091422Z
DESCRIPTION:The Melton Interfaith Network in partnership with Wyndham Inter
 faith\, Brimbank Maribyrnong and Hobsons Bay Interfaith networks invites y
 ou to:\nHow does Gender Equity benefit everyone? A forum for faith communi
 ties in the West\nDate: Wednesday 28 August 2018&nbsp\; &nbsp\; &nbsp\; Ti
 me: 6:30pm to 8pmLocation:&nbsp\;Caroline Springs Library &amp\; Learning 
 Hub\, 193-201 Caroline Springs Blvd\, Caroline Springs 3023\nThe Building 
 Equality and Respect group invite you to attend a meet and greet session t
 o hear about the positive role faith communities can play to prevent viole
 nce against women.\nThis is a chance to get together with people from the 
 Interfaith Networks across Melbourne's West\, meet the Building Equality a
 nd Respect partners\, and share some free food!\nRegister at https://howdo
 esgenderequitybenifiteveryone.eventbrite.com.au https://faithvictoria.org.
 au/upcoming-events/event/1599-how-does-gender-equity-benefit-everyone-melt
 on-interfaith-network
DTSTART:20190828T183000Z
DTEND:20190828T200000Z
LOCATION:Caroline Springs Library & Learning Hub\, 193-201 Caroline Springs
  Blvd\, Caroline Springs 3023 (193-201 Caroline Springs Blvd\, Caroline Sp
 rings VIC 3023\, Australia)
SUMMARY:How does Gender Equity benefit everyone?: Melton Interfaith Network
URL:https://faithvictoria.org.au/upcoming-events/event/1599-how-does-gender
 -equity-benefit-everyone-melton-interfaith-network
END:VEVENT
BEGIN:VEVENT
UID:20260423T091422UTC-4872MIcvGZ@https://faithvictoria.org.au/
DTSTAMP:20260423T091422Z
DESCRIPTION:Wyndham Interfaith Network invites you to:\nPlaces of Worship T
 our | Insights from Asia\nDate: Wednesday 28 August 2019&nbsp\; &nbsp\; &n
 bsp\; Time: 9am to 4:30pmPick-up Location:&nbsp\;Wyndham Community &amp\; 
 Education Centre\, 20 Synott Street\, Werribee\, VIC 3030Bus will return t
 o the same location by 4:30pm\nThe following places of worship will be vis
 ited:\n\n10:30am to 11:30am: Shiva Vishnu Temple | 52 Boundary Road | Carr
 um Downs\n12pm to 1:30pm: Sikh Gurudwara | 127 Whitehorse Road | Blackburn
 Vegetarian Lunch at GurudwaraSpecial requirement: Cover hair with a scarf 
 and remove shoes at entrance to the temple\n2pm to 3:30pm: Buddhist Medita
 tion Centre | 23 David Street | BrunswickIncluding introduction to meditat
 ionSpecial requirement: remove shoes at entrance to temple\n\nCost: FreeRS
 VP essential: 23 August 2019 | For booking\, click here.&nbsp\;\nContact: 
 Laurence Gray | 0401 337 696 | laurenceg@wyndhamcec.org.au\nThis event is 
 sponsored by the State Government of Victoria. https://faithvictoria.org.a
 u/upcoming-events/event/1613-places-of-worship-tour-wyndham-interfaith-net
 work
DTSTART:20190828T090000Z
DTEND:20190828T163000Z
LOCATION:Wyndham Community & Education Centre\, 20 Synott Street\, Werribee
 \, VIC 3030 (20 Synnot St\, Werribee VIC 3030\, Australia)
SUMMARY:Places of Worship Tour: Wyndham Interfaith Network
URL:https://faithvictoria.org.au/upcoming-events/event/1613-places-of-worsh
 ip-tour-wyndham-interfaith-network
END:VEVENT
END:VCALENDAR
