BEGIN:VCALENDAR
VERSION:2.0
PRODID:-//https://faithvictoria.org.au///NONSGML kigkonsult.se iCalcreator 2.10.15//
METHOD:PUBLISH
BEGIN:VEVENT
UID:20260423T185831UTC-3363DbVGLd@https://faithvictoria.org.au/
DTSTAMP:20260423T185831Z
DESCRIPTION:\n&nbsp\;\nHoly Day: Paryushana\nStart date: Thursday 21 August
  2025End date: Thursday 28 August 2025Faith: Jainism\nDescription: ‘Paryus
 hana’ means ‘to stay in one place’\, signifying a time of reflection and r
 epentance for nuns and monks. For lay Jains (Swetamber sect)\, this eight-
 day festival is an inward journey of reflection\, a time for fasting\, tak
 ing vows\, and imposing restrictions on oneself to keep the mind firmly fi
 xed on spirituality.\nTo the Jain community\, on this holy day of Mahaparv
 a Paryushan\, may you grant forgiveness to all living beings\, amd may all
  living beings grant you forgiveness.\n&nbsp\;\n&nbsp\; https://faithvicto
 ria.org.au/upcoming-events/event/2229-paryushana-jainism
DTSTART:20250821T143115Z
DTEND:20250828T053024Z
LOCATION:RSEvents!Pro Location (Colorado\, USA)
SUMMARY:Paryushana | Jainism
URL:https://faithvictoria.org.au/upcoming-events/event/2229-paryushana-jain
 ism
END:VEVENT
BEGIN:VEVENT
UID:20260423T185831UTC-3369v6Z1dm@https://faithvictoria.org.au/
DTSTAMP:20260423T185831Z
DESCRIPTION:\n&nbsp\;\nHoly Day: Ganesh Chaturthi\nDate: Wednesday 27 Augus
 t 2025 **Faith: Hinduism\nDescription: Ganesh Chaturthi is a Hindu festiva
 l celebrating the birthday of Lord Ganesh\, one of the major Hindu deities
 . Ganesh has the head of an elephant and is known as the remover of obstac
 les.\n** Local or regional customs may use a variation of this date https:
 //faithvictoria.org.au/upcoming-events/event/2230-ganesh-chaturthi-hinduis
 m
DTSTART;VALUE=DATE:20250827
LOCATION:RSEvents!Pro Location (Colorado\, USA)
SUMMARY:Ganesh Chaturthi | Hinduism 
URL:https://faithvictoria.org.au/upcoming-events/event/2230-ganesh-chaturth
 i-hinduism
END:VEVENT
END:VCALENDAR
