BEGIN:VCALENDAR
VERSION:2.0
PRODID:-//https://faithvictoria.org.au///NONSGML kigkonsult.se iCalcreator 2.10.15//
METHOD:PUBLISH
BEGIN:VEVENT
UID:20260423T104314UTC-2117IilAe5@https://faithvictoria.org.au/
DTSTAMP:20260423T104314Z
DESCRIPTION:Building Bridges invites you to:\nInterfaith Dialogue in School
 s\nDate: Tuesday 27 August 2019&nbsp\; &nbsp\; Time: 7:30pm to 9:30pmLocat
 ion:&nbsp\;Strathcona Baptist Girls' Grammar School\, 34 Scott Street\, Ca
 nterbury 3126\nPlease join us as we celebrate the students' participation 
 in the Building Bridges: Interfaith Dialogue in Schools program. This even
 ing will honour the students' inter-faith and inter-cultural exchange\, wh
 ere they have sought to build trust\, understanding and mutual respect acr
 oss religious and cultural differences through dialogue and sharing life s
 tories throughout this year.\nPlease plan to be seated by 7:20pm for a pro
 mpt start at 7:30pm.\nOn the night\, there will be opportunity financially
  support the ongoing work of Building Bridges.&nbsp\;\nContact: Ruth Sandy
  rsandy@buildingbridges.org.au&nbsp\;\nFor Facebook page\, click here.&nbs
 p\; https://faithvictoria.org.au/upcoming-events/event/1606-interfaith-dia
 logue-in-schools-building-bridges
DTSTART:20190827T193000Z
DTEND:20190827T213000Z
LOCATION:Strathcona Baptist Girls' Grammar School\, 34 Scott Street\, Cante
 rbury 3126 (34 Scott St\, Canterbury VIC 3126\, Australia)
SUMMARY:Interfaith Dialogue in Schools‎: Building Bridges 
URL:https://faithvictoria.org.au/upcoming-events/event/1606-interfaith-dial
 ogue-in-schools-building-bridges
END:VEVENT
END:VCALENDAR
