BEGIN:VCALENDAR
VERSION:2.0
PRODID:-//https://faithvictoria.org.au///NONSGML kigkonsult.se iCalcreator 2.10.15//
METHOD:PUBLISH
BEGIN:VEVENT
UID:20260424T203515UTC-0780ZVXVG2@https://faithvictoria.org.au/
DTSTAMP:20260424T203515Z
DESCRIPTION:\n&nbsp\;\nHoly Day: Krishna Janmashtami \nDate: Sunday 26 Augu
 st 2024 **Faith: Hinduism\nDescription: Krishna Janmashtami (or Jayanti) i
 s the annual commemoration of the birth of the Hindu deity Krishna\, the e
 ighth avatar of the God Vishnu. Worship of Krishna is characteristically e
 xpressed in dance and song.\n** Local or regional customs may use a variat
 ion of this date https://faithvictoria.org.au/upcoming-events/event/2069-k
 rishna-janmashtami-hinduism
DTSTART;VALUE=DATE:20240826
LOCATION:RSEvents!Pro Location (Colorado\, USA)
SUMMARY:Krishna Janmashtami | Hinduism 
URL:https://faithvictoria.org.au/upcoming-events/event/2069-krishna-janmash
 tami-hinduism
END:VEVENT
END:VCALENDAR
