BEGIN:VCALENDAR
VERSION:2.0
PRODID:-//https://faithvictoria.org.au///NONSGML kigkonsult.se iCalcreator 2.10.15//
METHOD:PUBLISH
BEGIN:VEVENT
UID:20260423T135456UTC-5354KACtwx@https://faithvictoria.org.au/
DTSTAMP:20260423T135456Z
DESCRIPTION:The Jewish Christian Muslim Association of Australia invites yo
 u to:\nHonouring Our Differences - Telling Our Stories\nDate: Sunday 25 Au
 gust 2019&nbsp\; &nbsp\; &nbsp\;Time: 3pm to 5pmLocation:&nbsp\;ARK Centre
 \, 7 Cato Street\, Hawthorn East 3123\nOur personal stories give meaning a
 nd depth to our lives. Come along and hear from Zalman Kastel\, National D
 irector of Together for Humanity\, Rufiath Yousuff\, a lawyer and active a
 dvocate for Muslim women and Rev Ian Smith\, Vice President of the Jewish 
 Christian Muslim Association of Australia.An opportunity for people of the
  Abrahamic faiths to connect\, engage and share our own personal experienc
 es and stories with each other and with a welcome and introduction from Ra
 bbi Gabi Kaltmann from the Ark Centre.\nCost:&nbsp\;Free | Bookings:&nbsp\
 ;https://jcmatellingourstories.eventbrite.com.au&nbsp\;For more informatio
 n:&nbsp\;David Schutz 0400 978 938&nbsp\;|&nbsp\;eic@cam.org.au\nFor flyer
 \, please click here.&nbsp\; https://faithvictoria.org.au/upcoming-events/
 event/1597-honouring-our-differences-through-stories-jewish-christian-musl
 im-association-of-australia
DTSTART:20190825T150000Z
DTEND:20190825T170000Z
LOCATION:ARK Centre\, 7 Cato Street\, Hawthorn East 3123 (7 Cato St\, Hawth
 orn East VIC 3123\, Australia)
SUMMARY:Honouring our Differences through stories: Jewish Christian Muslim 
 Association of Australia
URL:https://faithvictoria.org.au/upcoming-events/event/1597-honouring-our-d
 ifferences-through-stories-jewish-christian-muslim-association-of-australi
 a
END:VEVENT
END:VCALENDAR
