BEGIN:VCALENDAR
VERSION:2.0
PRODID:-//https://faithvictoria.org.au///NONSGML kigkonsult.se iCalcreator 2.10.15//
METHOD:PUBLISH
BEGIN:VEVENT
UID:20260423T154113UTC-6941PZmcww@https://faithvictoria.org.au/
DTSTAMP:20260423T154113Z
DESCRIPTION:The Jewish Christian Muslim Association of Australia invites yo
 u to:\n'This is a true story...'? | A Night with Osamah Sami\nDate: Saturd
 ay 24 August 2019&nbsp\; &nbsp\; &nbsp\; &nbsp\;Time: 7:20pmLocation:&nbsp
 \;Knox Lecture Theatre\, 383 Albert Street East Melbourne\nEveryone loves 
 a good story\, but what happens when our stories get us into trouble?\nJoi
 n the Jewish Christian Muslim Association for a night of conversation with
  writer\, actor and poet Osama Sami\, including a showing of the film base
 d on his story\, 'Ali's Wedding'.\nOsamah Sami is an Australian actor\, wr
 iter\, and comedian\, born in war-torn Iran to Iraqi parents. His critical
 ly acclaimed memoir Good Muslim Boy was the Winner of the NSW Premier’s Li
 terary Award and Highly Commended at the Victorian Premier’s Literary Awar
 ds\, and has been adapted for the stage (sell-out seasons at Malthouse and
  Queensland Theatre Companies).\nOsamah also co-wrote and starred in the h
 it Aussie rom-com Ali’s Wedding\, which was the Winner of the Audience Awa
 rd for Best Feature Film at Sydney Film Festival\, and The Age Critics Pri
 ze for Best Australian Film. His screenplay earned him an Australian Acade
 my (AACTA) Award\, an Australian Writers Guild Award\, an Australian Film 
 Critics Association Award\, and a Film Critics Circle of Australia Award f
 or Best Screenplay. He also received AACTA Award\, FCCA Award and AFCA Awa
 rd nominations for Best Lead Actor.\nOsamah is also recognized as a “notab
 le Australian Muslim” by the Commonwealth of Australia.\nCost:&nbsp\;$10 e
 ntry at door |&nbsp\;Book online: https://jcmatruestory.eventbrite.com.auF
 or more information: David 0400 978 938 |&nbsp\;eic@cam.org.au\nFor flyer\
 , please click here.&nbsp\; https://faithvictoria.org.au/upcoming-events/e
 vent/1596-a-night-with-osamah-sami-jewish-christian-muslim-association-of-
 australia
DTSTART:20190824T192000Z
DTEND:20190824T230000Z
LOCATION:The Knox Lecture Theatre in the Cardinal Knox Centre - 383 Albert 
 Street East Melbourne (383 Albert Street\, East Melbourne VIC 3002\, Austr
 alia)
SUMMARY:A Night with Osamah Sami: Jewish Christian Muslim Association of Au
 stralia
URL:https://faithvictoria.org.au/upcoming-events/event/1596-a-night-with-os
 amah-sami-jewish-christian-muslim-association-of-australia
END:VEVENT
END:VCALENDAR
