BEGIN:VCALENDAR
VERSION:2.0
PRODID:-//https://faithvictoria.org.au///NONSGML kigkonsult.se iCalcreator 2.10.15//
METHOD:PUBLISH
BEGIN:VEVENT
UID:20260423T172821UTC-3411xONapV@https://faithvictoria.org.au/
DTSTAMP:20260423T172821Z
DESCRIPTION:Spiritual Directors International (SDI) invites you to:\nListen
 ing for Wisdom\nDate:&nbsp\;Friday 23 August 2019&nbsp\; &nbsp\; Time: 9:1
 5am to 4pmLocation: Catholic Leadership Centre. 576 Victoria Parade East M
 elbourneWho: Spiritual directors and companions - and seekers from all fai
 ths and spiritual orientations - are welcome.\nSpeakers include:\n\nDr. Mi
 riam-Rose Ungunmerr AO&nbsp\;is an Aboriginal elder from Nauiyu (Daly Rive
 r). She is a renowned artist\, activist\, writer and public speaker.\nKaye
  Twining is the founder of Tree of Life Spiritual Wellbeing.\nAnnie Whitlo
 cke is a Buddhist Chaplain and an end of life doula.\nRabbi Aviva Kipen&nb
 sp\;has served for 25 years in synagogues and university settings.\nJessic
 a Swann is&nbsp\;a journalist\, presenter and facilitator specializing in 
 Islam/West relations.\n\nA call to deep listening. This is an invitation t
 o community.This is an opportunity to inhabit stillness\, togetherness and
  healing.In this full-day gathering\, SDI will provide speakers from acros
 s the spiritual spectrum to inspire you. There will be space for dialogue 
 and reflection.\nIn light of the events of March this year in Christchurch
 \, we will honor all people’s roots in the deep place within us that foste
 rs love and compassion for all.Join us as we:Listen to our own inner wisdo
 m.Listen to each other Listen to the world\, community and nature around u
 s Listen to the transcendent.\nCost: AUS$30 including morning tea and lunc
 h.To register\, please click here.&nbsp\;\nFor flyer\, please click here.&
 nbsp\; https://faithvictoria.org.au/upcoming-events/event/1585-listening-f
 or-wisdom-spiritual-directors-international
DTSTART:20190823T093000Z
DTEND:20190823T163000Z
LOCATION: Catholic Leadership Centre\, 576 Victoria Parade East Melbourne V
 IC 3002 (576 Victoria Parade\, East Melbourne VIC 3065\, Australia)
SUMMARY:Listening for Wisdom: Spiritual Directors International 
URL:https://faithvictoria.org.au/upcoming-events/event/1585-listening-for-w
 isdom-spiritual-directors-international
END:VEVENT
END:VCALENDAR
