BEGIN:VCALENDAR
VERSION:2.0
PRODID:-//https://faithvictoria.org.au///NONSGML kigkonsult.se iCalcreator 2.10.15//
METHOD:PUBLISH
BEGIN:VEVENT
UID:20260423T233502UTC-0751uxfskg@https://faithvictoria.org.au/
DTSTAMP:20260423T233502Z
DESCRIPTION:The Jewish Community Council of Victoria invites you to:\nThe N
 ot-so Holy Comedy\nDate: Monday 19 August 2019&nbsp\; &nbsp\; &nbsp\;Time:
  7pmLocation:&nbsp\;Swanston Hall\, Melbourne Town Hall\, Swanston Street\
 , Melbourne VIC 3000\n\nThe FOURTH Not-So-Holy Comedy Debate will debate t
 he topic IS LAUGHTER THE BEST MEDICINE?\n\n\n\n\n\nWith the witty and very
  cheeky Father Bob acting as Moderator\, and including the very clever and
  hilarious panellists\n\n\n\nMr Michael Shafar\nMs Annie Louey\nMr Sam Geb
 reselassie\nMs Justine Sless\nMr Jacob Sacher\nMr Cemil Yildiz\n\n\n\nPlea
 se arrive by 6.45pm for a 7.00pm start.&nbsp\;Entertainment begins at 6.45
 \, light refreshments and surprises.\n\nMelbourne Comedy Magician\, Millio
 n Dollar Magician - Brett Parkin\nMelbourne Darbuka with passionate Atman 
 Okyay\n\nCost: $11 to $16 | Click here for bookings (limited seats)\n\nHos
 ted by the Jewish Community Council of Victoria (JCCV) and the Australian 
 Intercultural Society (AIS)\, with the generous support of the State Gover
 nment and the City of Melbourne.\n https://faithvictoria.org.au/upcoming-e
 vents/event/1602-the-not-so-holy-comedy-debate-4-the-jewish-community-coun
 cil-of-victoria
DTSTART:20190819T190000Z
DTEND:20190819T220000Z
LOCATION:Swanston Hall\, Melbourne Town Hall\, Swanston Street\, Melbourne 
 VIC 3000 (90-130 Swanston St\, Melbourne VIC 3000\, Australia)
SUMMARY:The Not-so Holy Comedy Debate #4: The Jewish Community Council of V
 ictoria
URL:https://faithvictoria.org.au/upcoming-events/event/1602-the-not-so-holy
 -comedy-debate-4-the-jewish-community-council-of-victoria
END:VEVENT
END:VCALENDAR
