BEGIN:VCALENDAR
VERSION:2.0
PRODID:-//https://faithvictoria.org.au///NONSGML kigkonsult.se iCalcreator 2.10.15//
METHOD:PUBLISH
BEGIN:VEVENT
UID:20260422T063330UTC-3827zeh1eP@https://faithvictoria.org.au/
DTSTAMP:20260422T063330Z
DESCRIPTION:\nHoly Day: Ullambana\nDate: Sunday 18 August 2024 **Religion: 
 Buddhism&nbsp\;\nDescription: Ullambana\, also known as Ancestor Day or Ob
 on\, is a Mahayana Buddhist ritual of making merit for the deceased. Lay d
 evotees make offerings on behalf of their ancestors and dedicate the merit
  towards relieve of their suffering.\n** Local or regional customs may use
  a variation of this date https://faithvictoria.org.au/upcoming-events/eve
 nt/2038-ullambana-buddhism
DTSTART;VALUE=DATE:20240818
LOCATION:RSEvents!Pro Location (Colorado\, USA)
SUMMARY:Ullambana | Buddhism
URL:https://faithvictoria.org.au/upcoming-events/event/2038-ullambana-buddh
 ism
END:VEVENT
BEGIN:VEVENT
UID:20260422T063330UTC-38329wIuNL@https://faithvictoria.org.au/
DTSTAMP:20260422T063330Z
DESCRIPTION:\nHoly Day: Raksha Bandhan \nDate: Sunday 19 August 2024 **Fait
 h: Hinduism\nDescription: 'Raksha' means protection and 'Bandhan' means to
  tie - a holy thread tied to the brother’s wrist by their sister defines t
 he strong bond between them. Also known as Rakhi\, this Hindu festival cel
 ebrates a brother-sister like relationship between relatives or biological
 ly unrelated.\n** Local or regional customs may use a variation of this da
 te https://faithvictoria.org.au/upcoming-events/event/2070-raksha-bandhan-
 hinduism
DTSTART;VALUE=DATE:20240818
LOCATION:RSEvents!Pro Location (Colorado\, USA)
SUMMARY:Raksha Bandhan | Hinduism 
URL:https://faithvictoria.org.au/upcoming-events/event/2070-raksha-bandhan-
 hinduism
END:VEVENT
END:VCALENDAR
