BEGIN:VCALENDAR
VERSION:2.0
PRODID:-//https://faithvictoria.org.au///NONSGML kigkonsult.se iCalcreator 2.10.15//
METHOD:PUBLISH
BEGIN:VEVENT
UID:20260424T011330UTC-6526JAFJcR@https://faithvictoria.org.au/
DTSTAMP:20260424T011330Z
DESCRIPTION:The Executive Committee of the Council of Christians and Jews (
 Victoria) invites you to:\n35th Annual General MeetingModerated and Chaire
 d by the Catholic Archbishop of Melbourne\, Peter A Comensoli\nDate: Sunda
 y 18 August 2019&nbsp\; &nbsp\; &nbsp\; Time: 3pmLocation:&nbsp\;Temple Be
 th Israel\, 76 - 82 Alma Road\, St Kilda 3182\nFeaturing:&nbsp\;Anette Ade
 lmann from Heppenheim\, Germany\, who is the General Secretary of the Inte
 rnational Council of Christians and Jews. She has a Dipl. Theol. (Protesta
 nt Threology) and an M.A. (Jewish Studies). Her topic will be: 'Benefits a
 nd Boundaries of a global Jewish-Christian Dialogue: Insights into the rec
 ent work and future tasks the International Council of Christians and Jews
 '.\nThe launch of the Tackling Hate Speech Program\nThe program is a new i
 nitiative of the CCJ\, in conjunction with the ONline Hate Prevention Inst
 itute\, aimed at combating the rise in online hate by working together as 
 religious communities to counter the hate and increase awareness of the is
 sues. The program will provide training for people to safely respond when 
 facees with racism or religious vilification.&nbsp\;More details at the la
 unch.\nFor further information: Liz Parker | (03) 9429 5212 | ccjvic@bigpo
 nd.net.au&nbsp\; https://faithvictoria.org.au/upcoming-events/event/1610-a
 nnual-general-meeting-council-of-christians-and-jews-vic
DTSTART:20190818T150000Z
DTEND:20190818T170000Z
LOCATION:Temple Beth Israel\, 76 - 82 Alma Road\, St Kilda\, Victoria\, 318
 2 (Temple Beth Israel\, 76 - 82 Alma Road\, St Kilda\, Victoria\, 3182)
SUMMARY:Annual General Meeting: Council of Christians and Jews Vic
URL:https://faithvictoria.org.au/upcoming-events/event/1610-annual-general-
 meeting-council-of-christians-and-jews-vic
END:VEVENT
END:VCALENDAR
