BEGIN:VCALENDAR
VERSION:2.0
PRODID:-//https://faithvictoria.org.au///NONSGML kigkonsult.se iCalcreator 2.10.15//
METHOD:PUBLISH
BEGIN:VEVENT
UID:20260424T134814UTC-5183cVdRbx@https://faithvictoria.org.au/
DTSTAMP:20260424T134814Z
DESCRIPTION:The Knox Interfaith Network invites you to:\nTour to Places of 
 Worship\nDate: Saturday 18 August 2018&nbsp\; &nbsp\; &nbsp\; &nbsp\;Time:
  1:30pm to 4:30pmLocation: Temple Society Australia\, 51 Elizabeth Street\
 , Bayswater Vic 3153 (inside the white building - chapel - nearest the roa
 d)The bus will depart at 1:30pm sharp\nLearn about other faiths. Discuss b
 eliefs and traditions. Appreciate the diverse faiths that make up our comm
 unity. Through knowledge\, understanding and respect\, we can strengthen a
 nd build on the rich heritage everyone brings to our community.\nThe Place
  of Worship that will be visited are:\n\nPure Land Learning Center\nSzent 
 Istv&aacute\;n Ecumenical Church\n\nCost: $5 per person |&nbsp\;Includes t
 our\, transportation and afternoon teaFurther information and Bookings:&nb
 sp\;03 9557 6713 | E: tsa@templesociety.org.au&nbsp\;|&nbsp\;Limited Seats
  | Book Now\n https://faithvictoria.org.au/upcoming-events/event/1390-tour
 -to-places-of-worship-knox-interfaith-network
DTSTART:20180818T133000Z
DTEND:20180818T163000Z
LOCATION:Temple Society Australia\, 51 Elizabeth Street\, Bayswater Vic 315
 3 (51 Elizabeth St\, Bayswater VIC 3153\, Australia)
SUMMARY:Tour to Places of Worship: Knox Interfaith Network
URL:https://faithvictoria.org.au/upcoming-events/event/1390-tour-to-places-
 of-worship-knox-interfaith-network
END:VEVENT
END:VCALENDAR
