BEGIN:VCALENDAR
VERSION:2.0
PRODID:-//https://faithvictoria.org.au///NONSGML kigkonsult.se iCalcreator 2.10.15//
METHOD:PUBLISH
BEGIN:VEVENT
UID:20260422T011618UTC-3407mZhGoT@https://faithvictoria.org.au/
DTSTAMP:20260422T011618Z
DESCRIPTION:\n&nbsp\;\nHoly Day: Assumption of the Blessed Virgin Mary\nDat
 e: Thursday 15 August 2024Faith: Christianity\nDescription: Commemorates t
 he assumption of the Blessed Virgin Mary into heaven - at the end of her l
 ife\, Mary\, the mother of Christ\, was taken body and soul (i.e. both phy
 sically and spiritually) into Heaven. Also known as the Feast of the Assum
 ption. https://faithvictoria.org.au/upcoming-events/event/2055-assumption-
 of-the-blessed-virgin-mary-christianity
DTSTART;VALUE=DATE:20240815
LOCATION:RSEvents!Pro Location (Colorado\, USA)
SUMMARY:Assumption of the Blessed Virgin Mary | Christianity 	
URL:https://faithvictoria.org.au/upcoming-events/event/2055-assumption-of-t
 he-blessed-virgin-mary-christianity
END:VEVENT
END:VCALENDAR
