BEGIN:VCALENDAR
VERSION:2.0
PRODID:-//https://faithvictoria.org.au///NONSGML kigkonsult.se iCalcreator 2.10.15//
METHOD:PUBLISH
BEGIN:VEVENT
UID:20260424T060105UTC-5273LuwfuT@https://faithvictoria.org.au/
DTSTAMP:20260424T060105Z
DESCRIPTION: https://faithvictoria.org.au/upcoming-events/event/1588-faith-
 and-the-path-towards-a-better-quality-of-city-life-urban-shalom-society
DTSTART:20190814T090000Z
DTEND:20190816T180000Z
LOCATION:Melbourne VIC 3000 (Melbourne VIC\, Australia)
SUMMARY:Faith and the Path Towards a Better Quality of City Life: Urban Sha
 lom Society
URL:https://faithvictoria.org.au/upcoming-events/event/1588-faith-and-the-p
 ath-towards-a-better-quality-of-city-life-urban-shalom-society
END:VEVENT
END:VCALENDAR
