BEGIN:VCALENDAR
VERSION:2.0
PRODID:-//https://faithvictoria.org.au///NONSGML kigkonsult.se iCalcreator 2.10.15//
METHOD:PUBLISH
BEGIN:VEVENT
UID:20260421T233016UTC-57225Ptpi7@https://faithvictoria.org.au/
DTSTAMP:20260421T233016Z
DESCRIPTION:The City of Greater Dandenong Interfaith Network invites you to
 :\nA Tour to Places of Worship 2024\nDate:&nbsp\;Wednesday&nbsp\;14 August
  2024&nbsp\; &nbsp\; &nbsp\;&nbsp\;Time:&nbsp\;8:30am to 3:00pm&nbsp\;Tour
  departs from:&nbsp\;Interfaith Network Office\, Level 1\, 39 Clow Street\
 , Dandenong (Free parking available off Stuart Street\, behind IFN Office)
 \nThe Interfaith Network is a group of diverse cultural and religious fait
 hs\, working in partnership with the Greater Dandenong Council to promote 
 peace and harmony within the municipality.\nThe community is invited to at
 tend public tours for an opportunity to see the diversity within our area\
 , focusing on the religious and faith dimension of multiculturalism.\nTour
  FeaturesAn opportunity to visit the places of worship of the local faith 
 communities\, including:\n\nThe Hindu Temple in Carrum Downs\nA Mosque\, e
 ither in Dandenong or Noble Park\nA Buddhist Temple\, either Springvale So
 uth\, Noble Park\, or Keysborough\nA Christian Church\, either Western or 
 Eastern tradition\nA Jewish Temple in Bentleigh or St Kilda\nAn Islamic Mo
 sque in Dandenong or Keysborough\nA Sikh Gurdwara in Blackburn or Keysboro
 ugh\nBrahma Kumaris in Frankston South\nSpiritual traditions\n\nTour Dates
  2024\n\nWednesday 14 August\, 8.30am-3pm\nWednesday 9 October\, 8.30am-3p
 m\nWednesday 11 December\, 8.30am-3pm\n\nHow to registerTour registration 
 and payment is required in advance of the Tour.\nCost:&nbsp\;$25/person | 
 Click here for webpage.&nbsp\;\nFor further information about the tour\, i
 ncluding registration and payment\, please contact Paris Sard\, IFN Commun
 ity Education Officer\, via\, education@interfaith.net.au&nbsp\;| 03 8774 
 7662.\nIf you require additional assistance to participate\, please get in
  contact with us.\nRespectful Practices:\n\nModest clothing worn in all Pl
 aces of Worship would be appreciated.\nAll are requested to remove their s
 hoes before entering the Sikh Gurdwara\, Hindu and Buddhist Temples and Mo
 sque.\nAll are asked to wear socks on entering the Mosque and women enteri
 ng the Mosque are asked to cover their heads and wear clothing which cover
 s arms to wrists and legs to ankles\, men are asked to cover their heads i
 n the Jewish Synagogue\, and all are asked to cover their heads in the Gur
 dwara.\nPLEASE BRING YOUR OWN HEAD COVERING FOR THE MOSQUE\; head covering
  is only provided in the Synagogue &amp\; Gurdwara.&nbsp\;\nVisitors shoul
 d have no tobacco on their person when entering the Gurdwara\n https://fai
 thvictoria.org.au/upcoming-events/event/2275-tour-1-to-places-of-worship-2
 024-interfaith-network-of-greater-dandenong
DTSTART:20240814T083000Z
DTEND:20240814T150000Z
LOCATION:Interfaith Network Office\, 39 Clow Street\, Dandenong VIC 3175 (3
 9 Clow St\, Dandenong VIC 3175\, Australia)
SUMMARY:Tour 1 to Places of Worship 2024: Interfaith Network of Greater Dan
 denong
URL:https://faithvictoria.org.au/upcoming-events/event/2275-tour-1-to-place
 s-of-worship-2024-interfaith-network-of-greater-dandenong
END:VEVENT
END:VCALENDAR
