BEGIN:VCALENDAR
VERSION:2.0
PRODID:-//https://faithvictoria.org.au///NONSGML kigkonsult.se iCalcreator 2.10.15//
METHOD:PUBLISH
BEGIN:VEVENT
UID:20260424T073958UTC-3974OBsAif@https://faithvictoria.org.au/
DTSTAMP:20260424T073958Z
DESCRIPTION:The Interfaith Network of Greater Dandenong invites you to:\nA 
 Tour to Places of Worship 2019\nDate:&nbsp\;Wednesday&nbsp\;14 August 2019
 &nbsp\; &nbsp\;Time:&nbsp\;8:30am to 2:45pm&nbsp\;Tour departs from:&nbsp\
 ;Interfaith Network Office\, 39 Clow Street\, Dandenong (Free parking avai
 lable off Stuart Street\, behind IFN Office)\nTour Guide:&nbsp\;Mrs Agnes 
 Kean\nTour includes:\n\nChurch of Jesus Christ of Latter-day Saints Chapel
 &nbsp\;| 894 Springvale Road\, Braeside| Host: Mr John &amp\; Mrs Nicole S
 tinchcombe\nMorning Tea\nShiva vishnu Temple (Hindu)&nbsp\;| 52 Boundary R
 oad\, Carrum Downs | Host:&nbsp\;Mr Arunachalam Mahendran (Mahen\nBrahma K
 umaris Retreat Centre&nbsp\;| 83-99 Stotts Lane\, Baxter | Host:&nbsp\;Sr 
 Jacqueline Russell\nVegetarian Lunch provided by Brahma Kumaris Retreat Ce
 ntre\; donation towards lunch is appreciated\nBright Moon Buddhist Society
  (Chinese) | 563 SPringvale Road\, Springvale South&nbsp\;| Host: Mr&nbsp\
 ;Kim Thai\nReturn to Interfaith Network Office\, Dandenong\nDebriefing and
  Refreshments\n\nCost:&nbsp\;$25 - covers transport and 'Many Faiths\, One
  People' book\nRespectful Practices:\n\nModest clothing worn in all Places
  of Worship would be appreciated.\nAll are requested to remove their shoes
  before entering the Sikh Gurdwara\, Hindu and Buddhist Temples and Mosque
 .\nIn the Hindu Temple\, all head coverings should be removed except those
  worn as religious practice.\nWomen entering the Mosque are asked to cover
  their heads and wear clothing which covers arms to wrists and legs to ank
 les\, men are asked to cover their heads in the Jewish Synagogue and all a
 re asked to cover their heads in Gurdwara. [Head covering provided in the 
 Synagogue &amp\; Gurdwara]\nVisitors should have no tobacco on their perso
 n when entering the Gurdwara\n\nFurther Information:&nbsp\;Helen Heath: 03
  8774 7662 | 0421 829 563 |&nbsp\;interfaithofficer@interfaithnetwork.org.
 au https://faithvictoria.org.au/upcoming-events/event/1566-tour-to-places-
 of-worship-2019-interfaith-network-of-greater-dandenong
DTSTART:20190814T083000Z
DTEND:20190814T144500Z
LOCATION:Interfaith Network Office\, 39 Clow Street\, Dandenong VIC 3175 (3
 9 Clow St\, Dandenong VIC 3175\, Australia)
SUMMARY:Tour to Places of Worship 2019: Interfaith Network of Greater Dande
 nong
URL:https://faithvictoria.org.au/upcoming-events/event/1566-tour-to-places-
 of-worship-2019-interfaith-network-of-greater-dandenong
END:VEVENT
BEGIN:VEVENT
UID:20260424T073958UTC-3995PMs5cd@https://faithvictoria.org.au/
DTSTAMP:20260424T073958Z
DESCRIPTION: https://faithvictoria.org.au/upcoming-events/event/1588-faith-
 and-the-path-towards-a-better-quality-of-city-life-urban-shalom-society
DTSTART:20190814T090000Z
DTEND:20190816T180000Z
LOCATION:Melbourne VIC 3000 (Melbourne VIC\, Australia)
SUMMARY:Faith and the Path Towards a Better Quality of City Life: Urban Sha
 lom Society
URL:https://faithvictoria.org.au/upcoming-events/event/1588-faith-and-the-p
 ath-towards-a-better-quality-of-city-life-urban-shalom-society
END:VEVENT
BEGIN:VEVENT
UID:20260424T073958UTC-4001XElF0C@https://faithvictoria.org.au/
DTSTAMP:20260424T073958Z
DESCRIPTION:Hobsons Bay Interfaith Network invites you to:\nInterfaith Conv
 ersations | Same same\, but different. Let's chat about that!\nDate: Wedne
 sday 14 August 2019&nbsp\; &nbsp\; &nbsp\; &nbsp\;Time: 7:30pm to 9:30pmLo
 cation:&nbsp\;Holy Trinity Anglican Church Parish Centre\, 255 Nelson Plac
 e\, Williamstown 3106\nAmal Abou-eid\, local educator and writer will set 
 the scene for the conversation. Based on her desire for people to live har
 moniously and without fear.&nbsp\;\nRSVP: commdev@hobsonsbay.vic.gov.au&nb
 sp\; https://faithvictoria.org.au/upcoming-events/event/1609-interfaith-co
 nversations-hobsons-bay-interfaith-network
DTSTART:20190814T193000Z
DTEND:20190814T213000Z
LOCATION:Holy Trinity Anglican Church Parish Centre\, 255 Nelson Place\, Wi
 lliamstown 3106 (255 Nelson Pl\, Williamstown VIC 3016\, Australia)
SUMMARY:Interfaith Conversations: Hobsons Bay Interfaith Network
URL:https://faithvictoria.org.au/upcoming-events/event/1609-interfaith-conv
 ersations-hobsons-bay-interfaith-network
END:VEVENT
END:VCALENDAR
