BEGIN:VCALENDAR
VERSION:2.0
PRODID:-//https://faithvictoria.org.au///NONSGML kigkonsult.se iCalcreator 2.10.15//
METHOD:PUBLISH
BEGIN:VEVENT
UID:20260421T220028UTC-1530LSnCa2@https://faithvictoria.org.au/
DTSTAMP:20260421T220028Z
DESCRIPTION:\nHoly Day: Tisha B'Av \nDate: Tuesday 13 August 2024Faith: Jud
 aism\nDescription:Tisha B'Av (Fast of Av) is a day of mourning to remember
  events such as the destruction of the First Temple and Second Temple in J
 erusalem.\n* Begins at sundown on the previous day listed https://faithvic
 toria.org.au/upcoming-events/event/2096-tisha-bav-judaism
DTSTART;VALUE=DATE:20240813
LOCATION:RSEvents!Pro Location (Colorado\, USA)
SUMMARY:Tisha B'Av | Judaism
URL:https://faithvictoria.org.au/upcoming-events/event/2096-tisha-bav-judai
 sm
END:VEVENT
END:VCALENDAR
