BEGIN:VCALENDAR
VERSION:2.0
PRODID:-//https://faithvictoria.org.au///NONSGML kigkonsult.se iCalcreator 2.10.15//
METHOD:PUBLISH
BEGIN:VEVENT
UID:20260423T103538UTC-8316T7UWtl@https://faithvictoria.org.au/
DTSTAMP:20260423T103538Z
DESCRIPTION:\n&nbsp\;\nHoly Day: Paryushana\nStart date: Monday 11 August 2
 023End date: Tuesday 19 August 2023Faith: Jainism\nDescription: ‘Paryushan
 a’ means ‘to stay in one place’\, signifying a time of reflection and repe
 ntance for nuns and monks. For lay Jains (Swetamber sect)\, this eight-day
  festival is an inward journey of reflection\, a time for fasting\, taking
  vows\, and imposing restrictions on oneself to keep the mind firmly fixed
  on spirituality.\nTo the Jain community\, on this holy day of Mahaparva P
 aryushan\, may you grant forgiveness to all living beings\, amd may all li
 ving beings grant you forgiveness.\n&nbsp\;\n&nbsp\; https://faithvictoria
 .org.au/upcoming-events/event/1980-paryushana-jainism
DTSTART:20230811T143115Z
DTEND:20230919T053024Z
LOCATION:RSEvents!Pro Location (Colorado\, USA)
SUMMARY:Paryushana | Jainism
URL:https://faithvictoria.org.au/upcoming-events/event/1980-paryushana-jain
 ism
END:VEVENT
BEGIN:VEVENT
UID:20260423T103538UTC-8321mhWVKF@https://faithvictoria.org.au/
DTSTAMP:20260423T103538Z
DESCRIPTION:March of the Living Australia invites you to:\nA fraction too m
 uch Holocaust fiction?\nDate: Sunday 13 August 2023&nbsp\; &nbsp\; &nbsp\;
 Time: 5pmLocation: Online via Registration\nHow can writers ethically tell
  stories that enlighten younger generatiions about the Holocaust in the ho
 pe that it will never happen again? Is the Holocaust becoming just another
  exotic location for a romantic love story? Are Jews and the culture of Ju
 daism being edited out of Holocaust fiction? Does that open australian rea
 ders to a kind of antisemitism?\nThat's what romantic fiction writer and r
 esearcher Kim Kelly has argues. Join Kim Kelly and New Zealand Holocaust '
 faction' author Navina Clemerson in a conversation with actor/writer and A
 CCJ chair Ron Hoenig.\nRegister by clicking here.&nbsp\; https://faithvict
 oria.org.au/upcoming-events/event/2128-a-fraction-too-much-holocaust-ficti
 on-march-of-the-living-australia
DTSTART:20230813T170000Z
DTEND:20230813T190000Z
LOCATION:Melbourne VIC 3000 (Melbourne VIC\, Australia)
SUMMARY:A fraction too much Holocaust fiction? : March of the living Austra
 lia
URL:https://faithvictoria.org.au/upcoming-events/event/2128-a-fraction-too-
 much-holocaust-fiction-march-of-the-living-australia
END:VEVENT
END:VCALENDAR
