BEGIN:VCALENDAR
VERSION:2.0
PRODID:-//https://faithvictoria.org.au///NONSGML kigkonsult.se iCalcreator 2.10.15//
METHOD:PUBLISH
BEGIN:VEVENT
UID:20260424T091923UTC-8098tL2uS7@https://faithvictoria.org.au/
DTSTAMP:20260424T091923Z
DESCRIPTION:Highways and Byways (a community of service) invites you to:\nW
 omen of Faith Leading The Way | The Melbourne 2019 John Wallis Memorial Le
 ctureIn the spirit of the Missionary Sisters of Service and Fr John Wallis
 \nDate: Tuesday 13 August 2019&nbsp\; &nbsp\; &nbsp\;Time: 7pm to 9pmLocat
 ion:&nbsp\;The Madeleine Centre\, Genazzano FCJ College\, 301 Cotham Road\
 , Kew 3101\n2019 marks the 75th year of the Missionary Sisters of Service.
  Renowned Australian journalist and broadcaster Geraldine Doogue will expl
 ore the unique and enduring leadership and contributions by women of faith
  over the last 75 years: In conversation with Stancea Vichie mss\, Congreg
 ational Leader of the Missionary Sisters of Service\, and Zuleyha Keskin\,
  Centre for Islamic Studies and Civilization. And where to from here?\nCos
 t: $20 Adult\, $15 Concession/ StudentTo book online\, click here&nbsp\;|&
 nbsp\;Tickets also available at the doorContact:&nbsp\;mssadmin@missionary
 sisters.org.au | 03 9873 5520 | https://highwaysandbyways.org.au/&nbsp\;| 
 For flyer\, click here.&nbsp\;\n&nbsp\; https://faithvictoria.org.au/upcom
 ing-events/event/1592-women-of-faith-leading-the-way-highways-and-byways
DTSTART:20190813T190000Z
DTEND:20190813T213000Z
LOCATION:The Madeleine Centre\, Genazzano FCJ College\, 301 Cotham Road\, K
 ew 3101 (301 Cotham Rd\, Kew VIC 3101\, Australia)
SUMMARY:Women of Faith Leading The Way: Highways and Byways
URL:https://faithvictoria.org.au/upcoming-events/event/1592-women-of-faith-
 leading-the-way-highways-and-byways
END:VEVENT
END:VCALENDAR
