BEGIN:VCALENDAR
VERSION:2.0
PRODID:-//https://faithvictoria.org.au///NONSGML kigkonsult.se iCalcreator 2.10.15//
METHOD:PUBLISH
BEGIN:VEVENT
UID:20260423T153602UTC-6093NxF0Pv@https://faithvictoria.org.au/
DTSTAMP:20260423T153602Z
DESCRIPTION:Manningham Interfaith Network invites you to:\nUnity in Diversi
 ty Dinner\nDate: Thursday 10 August 2023&nbsp\; &nbsp\; &nbsp\;Time: 6pmLo
 cation: Doncaster RSL\,&nbsp\;Doncaster Rd\, Doncaster East&nbsp\;\nSharin
 g of faiths and cultures. Live entertainment.&nbsp\;\nRSVP: 3 August 2023 
 (Limited seats available)\nContact: min.manningham.interfaith@gmail.com&nb
 sp\;| 0425 718 937\nCost: Free https://faithvictoria.org.au/upcoming-event
 s/event/2125-unity-in-diversity-dinner-manningham-interfaith-network
DTSTART:20230810T180000Z
DTEND:20230810T210000Z
LOCATION:Doncaster RSL\, Doncaster Rd\, Doncaster East VIC 3109 (Doncaster 
 Rd\, Doncaster Heights VIC 3109\, Australia)
SUMMARY:Unity in Diversity Dinner: Manningham Interfaith Network
URL:https://faithvictoria.org.au/upcoming-events/event/2125-unity-in-divers
 ity-dinner-manningham-interfaith-network
END:VEVENT
END:VCALENDAR
